{"text_format":"1","workbook":"xlsx","n_sheets":12,"sheets":["Tidkort","Faktura","Kostn.räkn.","Kostn.räkn.förhandl.","Kostn.räkn.lista","Arbetsbeskrivn.","Resor","Bg eget","Bg klienter","Manual","Program","Copyright"],"not_rendered":{"charts":0,"images":0,"macros":1,"external_links":0,"defined_names":8,"comments":0,"pivot_tables":0},"unopened":[],"bounds":{"document_bytes":16777216,"sheet_cells":100000,"rows_first":2000,"rows_last":500,"rows_between":2000,"halvings":0,"cell_chars":16384,"cell_head_chars":4096},"cells_cut":0,"cells_raw":0,"read":"whole","date_system":"1900"}

{"sheet":"Tidkort","index":0,"n_rows":222,"n_cols":29,"rows_kept":222,"cut":false,"hidden":false,"merged":[[87,2,87,4],[78,2,78,4],[50,2,50,4],[79,2,79,4],[80,2,80,4],[69,2,69,4],[65,2,65,4],[66,2,66,4],[67,2,67,4],[84,2,84,4],[74,2,74,4],[76,2,76,4],[77,2,77,4],[75,2,75,4],[85,2,85,4],[86,2,86,4],[49,2,49,4],[0,0,0,2],[61,2,61,4],[54,2,54,4],[55,2,55,4],[64,2,64,4],[48,2,48,4],[51,2,51,4],[52,2,52,4],[44,2,44,4],[32,2,32,4],[47,2,47,4],[53,2,53,4],[42,2,42,4],[40,2,40,4],[37,2,37,4],[38,2,38,4],[5,3,5,5],[0,3,0,4],[1,3,1,4],[16,2,16,4],[9,2,9,4],[6,0,6,2],[6,3,6,5],[22,24,22,26],[25,2,25,4],[26,2,26,4],[33,2,33,4],[29,2,29,4],[28,2,28,4],[41,2,41,4],[39,2,39,4],[34,2,34,4],[35,2,35,4],[27,2,27,4],[31,2,31,4],[36,2,36,4],[30,2,30,4],[24,2,24,4],[49,7,49,9],[47,7,47,9],[25,7,25,9],[6,9,6,10],[20,7,20,8],[0,17,0,18],[1,17,1,18],[2,17,2,18],[2,13,2,15],[0,13,0,15],[23,7,23,8],[10,12,10,14],[8,12,8,14],[9,12,9,14],[7,12,7,14],[1,13,1,15],[6,12,6,14],[37,7,37,9],[39,7,39,9],[31,7,31,9],[33,7,33,9],[29,7,29,9],[35,7,35,9],[13,17,13,18],[45,2,45,4],[46,2,46,4],[43,2,43,4],[44,7,44,9],[46,7,46,9],[43,7,43,9],[0,9,0,10],[1,9,1,10],[5,9,5,10],[41,7,41,9],[27,7,27,9],[5,0,5,2],[8,2,8,4],[8,7,8,8],[15,2,15,4],[21,2,21,4],[19,2,19,4],[11,2,11,4],[14,2,14,4],[18,2,18,4],[20,2,20,4],[13,2,13,4],[10,2,10,4],[2,0,2,2],[109,13,109,14],[56,13,56,14],[57,13,57,14],[58,13,58,14],[59,13,59,14],[62,2,62,4],[63,2,63,4],[51,12,51,13],[53,12,53,13],[51,7,51,9],[53,7,53,9],[56,2,56,4],[57,2,57,4],[58,2,58,4],[59,2,59,4],[60,2,60,4],[68,2,68,4],[81,2,81,4],[82,2,82,4],[83,2,83,4],[70,2,70,4],[71,2,71,4],[72,2,72,4],[73,2,73,4],[132,2,132,4],[133,2,133,4],[134,2,134,4],[98,2,98,4],[99,2,99,4],[91,2,91,4],[92,2,92,4],[93,2,93,4],[88,2,88,4],[89,2,89,4],[96,2,96,4],[97,2,97,4],[90,2,90,4],[94,2,94,4],[95,2,95,4],[107,2,107,4],[108,2,108,4],[102,2,102,4],[103,2,103,4],[104,2,104,4],[105,2,105,4],[100,2,100,4],[101,2,101,4],[106,2,106,4],[116,2,116,4],[117,2,117,4],[109,2,109,4],[124,2,124,4],[110,2,110,4],[125,2,125,4],[126,2,126,4],[127,2,127,4],[128,2,128,4],[111,2,111,4],[112,2,112,4],[113,2,113,4],[114,2,114,4],[115,2,115,4],[118,2,118,4],[119,2,119,4],[120,2,120,4],[121,2,121,4],[122,2,122,4],[123,2,123,4],[135,2,135,4],[148,2,148,4],[149,2,149,4],[150,2,150,4],[151,2,151,4],[152,2,152,4],[156,2,156,4],[157,2,157,4],[158,2,158,4],[153,2,153,4],[159,2,159,4],[172,2,172,4],[129,2,129,4],[146,2,146,4],[147,2,147,4],[138,2,138,4],[139,2,139,4],[140,2,140,4],[141,2,141,4],[160,2,160,4],[161,2,161,4],[154,2,154,4],[155,2,155,4],[142,2,142,4],[143,2,143,4],[144,2,144,4],[145,2,145,4],[136,2,136,4],[137,2,137,4],[130,2,130,4],[131,2,131,4],[166,2,166,4],[167,2,167,4],[168,2,168,4],[169,2,169,4],[170,2,170,4],[171,2,171,4],[162,2,162,4],[163,2,163,4],[164,2,164,4],[165,2,165,4],[178,2,178,4],[179,2,179,4],[180,2,180,4],[181,2,181,4],[182,2,182,4],[183,2,183,4],[173,2,173,4],[174,2,174,4],[175,2,175,4],[176,2,176,4],[177,2,177,4],[190,2,190,4],[191,2,191,4],[192,2,192,4],[193,2,193,4],[194,2,194,4],[195,2,195,4],[184,2,184,4],[185,2,185,4],[186,2,186,4],[187,2,187,4],[188,2,188,4],[189,2,189,4],[205,2,205,4],[206,2,206,4],[207,2,207,4],[196,2,196,4],[197,2,197,4],[198,2,198,4],[199,2,199,4],[200,2,200,4],[201,2,201,4],[3,13,3,15],[3,0,3,2],[2,3,2,4],[3,3,3,4],[1,22,1,24],[220,2,220,4],[221,13,221,14],[221,2,221,4],[165,13,165,14],[214,2,214,4],[215,2,215,4],[216,2,216,4],[217,2,217,4],[218,2,218,4],[219,2,219,4],[208,2,208,4],[209,2,209,4],[210,2,210,4],[211,2,211,4],[212,2,212,4],[213,2,213,4],[202,2,202,4],[203,2,203,4],[204,2,204,4]]}
["TIDKORT",null,null,"Klient",null,"Tidsspillan",null,"Arvode","Bilersättning","Advokatfirman",null,null,"Namn:",{"$f":"D2","v":0},null,null,null,"Telefon",null,null,"Pnr",null,"E-mail",null,null,null,"Version"]
[null,null,null,null,null,"Låg taxa",918,null,37,"von Schéele",null,null,"C/o",null,null,null,null,null,null,null,null,null,null,null,null,null,"2024-04-01"]
["Dnr",null,null,"Motpart",null,"Normaltaxa",1400,1531,37,null,null,null,"Gatuadress:"]
[null,null,null,null,null,"Helgtaxa",1400,3065,37,null,null,null,"Postadress:"]
[null,null,null,null,null,null,null,null,null,null,null,null,null,null,null,"Mil",null,"Tim","Min",null,null,null,null,"Mil","Tim",null,"Min"]
["Utskrift",null,null,"Saken",null,null,null,null,{"$f":"R1","v":"Telefon"},"Ärendenr/målnr",null,null,"Bodafors-Stockholm",null,null,35,null,5,30,null,"Bodafors-Växjö tr",null,null,9.35,2,null,0]
[{"$f":"NOW()","v":"2023-12-21T17:59:06.100"},null,null,null,null,null,null,null,{"$f":"R2","v":0},null,null,null,"Bodafors-Göteborg-Förvaltn.rätten",null,null,20.7,null,3,30,null,"Bodafors-Växjö polis",null,null,9.3000000000000007,2,null,0]
[null,null,null,null,null,null,"",null,null,"Mil","Kronor",null,"Bodafors-Göteborg-Kållered",null,null,21.8,null,3,30,null,"Vetlanda-Nässjö",null,null,4,1,null,30,null,"  "]
["Mil","Km","RESEUTLÄGG MED EGEN BIL",null,null,"Datum",null,"Summa reseutlägg:",null,{"$f":"ROUND(A10+B10/10+A11+B11/10+A12+B12/10,2)","v":0},{"$f":"J9*I2","v":0},null,"Bodafors-Alvesta-Malmö",null,null,27,null,4,30,null,"Bodafors-Lenhovda",null,null,8.6999999999999993,1,null,30]
[null,null,null,null,null,null,null,null,null,null,null,null,"Bodafors-Helsingborg-Malmö",null,null,29,null,4,30,null,"Bodafors-Kalmar"]
[null,null,null,null,null,null,null,null,null,null,null,null,"Bodafors-Katrineholm-Flen",null,null,25.5,null,4,0,null,"Bodafors-Karlskrona",null,null,19.100000000000001,3]
[null,null,null,null,null,null,null,null,null,null,null,null,"Vrångaböke-Olofström-Malmö",null,null,17.600000000000001,null,3,0,null,"Vrångaböke-Växjö",null,null,6.3,1,null,15]
[null,null,null,null,null,{"$f":"IF(C7<AA2,\"\",\"Tiden är ute\")","v":""},null,"Timmar","Kronor",null,null,null,"Minuter",null,null,null,null,null,null,null,"Bodafors-Norrköping",null,null,18.8,3]
["Tim","Min","TIDSSPILLAN LÅGA TAXAN",null,null,"Datum",null,{"$f":"ROUND(A15+B15/60+A16+B16/60+A17+B17/60,2)","v":0},{"$f":"H14*G2","v":0},null,null,null,{"$f":"A15*60+B15+A16*60+B16+A17*60+B17","v":0},null,"Vard."," 07-08",null,"Traktamenten",null,null,"Bodafors-Linköping"]
[null,null,null,null,null,null,null,null,null,null,null,null,null,null,"Vard."," 18-22",null,"> 6 tim",208,null,"Bodafors-Vetlanda",null,null,3.2,null,null,45]
[null,null,null,null,null,null,null,null,null,null,null,null,null,null,"Helgd."," 07-22",null,"> 10 tim",364,null,"Bodafors-Eksjö",null,null,3,null,null,45]
[null,null,null,null,null,null,null,null,null,null,null,null,null,null,null,null,null,"> 12 tim",702,null,"Bodafors-Tranås",null,null,7.7,1,null,30]
[null,null,null,null,null,{"$f":"IF(C7<AA2,\"\",\"Tiden är ute\")","v":""},null,"Timmar","Kronor",null,null,null,"Minuter",null,null,null,null,null,null,null,"Bodafors-Jönköping",null,null,6,1,null,30]
["Tim","Min","TIDSSPILLAN NORMALTAXAN",null,null,"Datum",null,{"$f":"ROUND(A20+B20/60+A21+B21/60+A22+B22/60,2)","v":0},{"$f":"H19*G3","v":0},null,null,null,{"$f":"A20*60+B20+A21*60+B21+A22*60+B22","v":0},null,"Vard."," 08-18",null,null,null,null,"Bodafors-Skövde",null,null,15.2,2,null,45]
[null,null,{"$f":"C10","v":0},null,null,null,null,null,null,"Timmar"]
[null,null,{"$f":"C11","v":0},null,null,null,null,"Summa tidsspillan:",null,{"$f":"H14+H19","v":0},{"$f":"I14+I19","v":0}]
[null,null,{"$f":"C12","v":0},null,null,null,null,null,null,null,null,null,"Summa timmar",null,"Summa timmar"]
[null,null,null,null,null,{"$f":"IF(C7<AA2,\"\",\"Tiden är ute. Köp programmet!\")","v":""},null,null,null,"Timmar",null,null,"arbete efter avdrag",null,"arbete före avdrag",null,null,"Summa","Summa ",null,"Summa",null,null,null,"Beräkningar"]
["Tim","Min","ARBETE","Summa minuter:",{"$f":"SUM(B25:B222)+SUM(A25:A222)*60","v":30},"Datum",null,"Summa arbete:",null,{"$f":"ROUND((SUM(B25:B166)/60+SUM(A25:A166)),2)","v":0.5},{"$f":"IF(C7<AA2,J24*H3,\"Tiden ute\")","v":765.5},null,{"$f":"SUM(B25:B222)/60+SUM(A25:A222)","v":0.5},null,{"$f":"SUM(Y25:Y109)+SUM(AA25:AA222)/60","v":0.5},null,null,"minuter","timmar",null,"kronor",null,null,null,"Timmar",null,"Minuter"]
[null,null,null,null,null,null,null,null,null,null,null,null,null,null,null,null,null,{"$f":"SUM(A25:A25)*60+SUM(B25:B25)","v":0},{"$f":"R25/60","v":0},null,{"$f":"R25*H3/60","v":0},null,null,null,{"$f":"IF(A25>0,A25,\"\")","v":""},null,{"$f":"IF(B25>0,B25,\"\")","v":""}]
[null,null,null,null,null,null,null,"Parkering exkl moms:",null,null,{"$f":"+N26+O26+P26","v":0},null,"Parkering:",null,null,null,null,{"$f":"SUM(A25:A26)*60+SUM(B25:B26)","v":0},{"$f":"R26/60","v":0},null,{"$f":"R26*H3/60","v":0},null,null,null,"",null,""]
[null,null,null,null,null,null,null,null,null,null,null,null,null,null,null,null,null,{"$f":"SUM(A25:A27)*60+SUM(B25:B27)","v":0},0,null,{"$f":"R27*H3/60","v":0},null,null,null,"",null,""]
[null,null,null,null,null,null,null,"Tolkutlägg exkl moms:",null,null,{"$f":"+N28+O28+P28","v":0},null,"Tolkutlägg:",null,null,null,null,{"$f":"SUM(A25:A28)*60+SUM(B25:B28)","v":0},0,null,{"$f":"R28*H3/60","v":0},null,null,null,"",null,""]
[null,null,null,null,null,null,null,null,null,null,null,null,null,null,null,null,null,{"$f":"SUM(A25:A29)*60+SUM(B25:B29)","v":0},0,null,{"$f":"R29*H3/60","v":0},null,null,null,"",null,""]
[null,null,null,null,null,null,null,"Läkarhandlingar exkl moms:",null,null,{"$f":"+N30+O30+P30","v":0},null,"Läkarhandl.:",null,null,null,null,{"$f":"SUM(A25:A30)*60+SUM(B25:B30)","v":0},0,null,{"$f":"R30*H3/60","v":0},null,null,null,"",null,""]
[null,null,null,null,null,null,null,null,null,null,null,null,null,null,null,null,null,{"$f":"SUM(A25:A31)*60+SUM(B25:B31)","v":0},0,null,{"$f":"R31*H3/60","v":0},null,null,null,"",null,""]
[null,null,null,null,null,null,null,"Utskrift av fup (2 kr/sid) ex moms:",null,null,{"$f":"N32+O32+P32","v":0},null,"Fup utskrift:",null,null,null,null,{"$f":"SUM(A25:A32)*60+SUM(B25:B32)","v":0},0,null,{"$f":"R32*H3/60","v":0},null,null,null,"",null,""]
[null,null,null,null,null,null,null,null,null,null,null,null,null,null,null,null,null,{"$f":"SUM(A25:A33)*60+SUM(B25:B33)","v":0},0,null,{"$f":"R33*H3/60","v":0},null,null,null,"",null,""]
[null,null,null,null,null,null,null,"Traktamenten exkl moms:",null,null,{"$f":"N34+O34+P34","v":0},null,"Traktamenten:",null,null,null,null,{"$f":"SUM(A25:A34)*60+SUM(B25:B34)","v":0},0,null,{"$f":"R34*H3/60","v":0},null,null,null,"",null,""]
[null,null,null,null,null,null,null,null,null,null,null,null,null,null,null,null,null,{"$f":"SUM(A25:A35)*60+SUM(B25:B35)","v":0},0,null,{"$f":"R35*H3/60","v":0},null,null,null,"",null,""]
[null,null,null,null,null,null,null,"Summa kronor exkl moms:",null,null,{"$f":"IF(C7<AA2,SUM(K9:K35),\"Tiden ute\")","v":765.5},null,null,null,null,null,null,{"$f":"SUM(A25:A36)*60+SUM(B25:B36)","v":0},0,null,{"$f":"R36*H3/60","v":0},null,null,null,"",null,""]
[null,null,null,null,null,null,null,null,null,null,null,null,null,null,null,null,null,{"$f":"SUM(A25:A37)*60+SUM(B25:B37)","v":0},0,null,{"$f":"R37*H3/60","v":0},null,null,null,"",null,""]
[null,null,null,null,null,null,null,"Moms 25 procent, ev. justerat:",null,null,{"$f":"K36*0.25","v":191.375},null,"Exakt moms:",{"$f":"K36*0.25","v":191.375}," ",null,null,{"$f":"SUM(A25:A38)*60+SUM(B25:B38)","v":0},{"$f":"R38/60","v":0},null,{"$f":"R38*H3/60","v":0},null,null,null,"",null,""]
[null,null,null,null,null,null,null,null,null,null,null,null,null,null,null,null,null,{"$f":"SUM(A25:A39)*60+SUM(B25:B39)","v":0},0,null,{"$f":"R39*H3/60","v":0},null,null,null,"",null,""]
[null,null,null,null,null,null,null,"Summa kronor inkl moms:",null,null,{"$f":"5*K38","v":956.875},null,null,null,null,null,null,{"$f":"SUM(A25:A40)*60+SUM(B25:B40)","v":0},0,null,{"$f":"R40*H3/60","v":0},null,null,null,"",null,""]
[null,null,null,null,null,null,null,null,null,null,null,null,null,null,null,null,null,{"$f":"SUM(A25:A41)*60+SUM(B25:B41)","v":0},0,null,{"$f":"R41*H3/60","v":0},null,null,null,"",null,""]
[null,null,null,null,null,null,null,"Ansökningsavgifter exkl moms:",null,null,{"$f":"+N42+O42+P42","v":0},null,"Ans.avg.",null,null,null,null,{"$f":"SUM(A25:A42)*60+SUM(B25:B42)","v":0},0,null,{"$f":"R42*H3/60","v":0},null,null,null,"",null,""]
[null,null,null,null,null,null,null,null,null,null,null,null,null,"Minustecken","Minustecken","Minustecken",null,{"$f":"SUM(A25:A43)*60+SUM(B25:B43)","v":0},0,null,{"$f":"R43*H3/60","v":0},null,null,null,"",null,""]
[null,null,null,null,null,null,null,"Avgår erlagt förskott eller",null,null,{"$f":"+N44+O44+P44","v":0},null,"Förskott",null,null,null,null,{"$f":"SUM(A25:A44)*60+SUM(B25:B44)","v":0},0,null,{"$f":"R44*H3/60","v":0},null,null,null,"",null,""]
[null,null,null,null,null,null,null,"påförd självrisk inkl moms:",null,null,null,null,"eller självrisk:",null,null,null,null,{"$f":"SUM(A25:A45)*60+SUM(B25:B45)","v":0},0,null,{"$f":"R45*H3/60","v":0},null,null,null,"",null,""]
[null,null,null,null,null,null,null,null,null,null,null,null,null,"Minustecken","Minustecken","Minustecken",null,{"$f":"SUM(A25:A46)*60+SUM(B25:B46)","v":0},0,null,{"$f":"R46*H3/60","v":0},null,null,null,"",null,""]
[null,null,null,null,null,null,null,"Avgår tidigare fakturerat",null,null,{"$f":"+N47+O47+P47","v":0},null,"Fakturerat:",null,null,null,null,{"$f":"SUM(A25:A47)*60+SUM(B25:B47)","v":0},{"$f":"R47/60","v":0},null,{"$f":"R47*H3/60","v":0},null,null,null,"",null,""]
[null,null,null,null,null,null,null,"beloppinkl moms:",null,null,null,null,null,null,null,null,null,{"$f":"SUM(A25:A48)*60+SUM(B25:B48)","v":0},0,null,{"$f":"R48*H3/60","v":0},null,null,null,"",null,""]
[null,null,"* En timmas rådgivning har",null,null,null,null,null,null,null,null,null,null,null,null,null,null,{"$f":"SUM(A25:A49)*60+SUM(B25:B49)","v":0},0,null,{"$f":"R49*H3/60","v":0},null,null,null,"",null,""]
[null," ","avdragits i förekommande fall.",null,null,null,null,"Summa kronor före avrundning:",null,null,{"$f":"IF(C7<AA2,SUM(K40:K49),\"Tiden ute\")","v":956.875},null,null,null,null,null,null,{"$f":"SUM(A25:A50)*60+SUM(B25:B50)","v":0},0,null,{"$f":"R50*H3/60","v":0},null,null,null,"",null," "]
[null,null,null,null,null,null,null,null,null,null,null,null,null,null,null,null,null,{"$f":"SUM(A25:A51)*60+SUM(B25:B51)","v":0},0,null,{"$f":"R51*H3/60","v":0},null,null,null,"",null,""]
[null,null,null,null,null,null,null,"Öresavrundning, momsfri:",null,null,{"$f":"ROUND((K50),0)-K50","v":0.125},null,"Justeras vid behov",null,null,null,null,{"$f":"SUM(A25:A52)*60+SUM(B25:B52)","v":0},0,null,{"$f":"R52*H3/60","v":0},null,null,null,"",null,""]
[null,30,"Genomgång av beslutet/domen",null,null,null,null,null,null,null,null,null,null,null,null,null,null,{"$f":"SUM(A25:A53)*60+SUM(B25:B53)","v":30},0.5,null,{"$f":"R53*H3/60","v":765.5},null,null,null,"",null,30]
[null,null,"och redovisning därav.",null,null,null,null,"Summa kronor inkl moms:",null,null,{"$f":"(IF(C7<AA2,SUM(K50:K53),\"Tiden ute\"))","v":957},null,null,null,null,null,null,{"$f":"SUM(A25:A54)*60+SUM(B25:B54)","v":30},0.5,null,{"$f":"R54*H3/60","v":765.5},null,null,null,"",null,""]
[null,null,null,null,null,null,null,null,null,null,null,null,null,null,null,null,null,{"$f":"SUM(A25:A55)*60+SUM(B25:B55)","v":30},0.5,null,{"$f":"R55*H3/60","v":765.5},null,null,null,"",null,""]
[null,null,null,null,null,null,null,null,null,null,null,null,null,null,null,null,null,{"$f":"SUM(A25:A56)*60+SUM(B25:B56)","v":30},0.5,null,{"$f":"R56*H3/60","v":765.5},null,null,null,"",null,""]
[null,null,null,null,null,null,null,null,null,null,null,null,"Sidan 1","Tom rad 53",null,null,null,{"$f":"SUM(A25:A57)*60+SUM(B25:B57)","v":30},0.5,null,{"$f":"R57*H3/60","v":765.5},null,null,null,{"$f":"IF(A57>0,A57,\"\")","v":""},null,{"$f":"IF(B57>0,B57,\"\")","v":""}]
[null,null,null,null,null,null,null,null,null,null,null,null,"Sidan 2","Tom rad 109",null,null,null,{"$f":"SUM(A25:A58)*60+SUM(B25:B58)","v":30},0.5,null,{"$f":"R58*H3/60","v":765.5},null,null,null,"",null,""]
[null,null,null,null,null,null,null,null,null,null,null,null,"Sidan 3","Tom rad 165",null,null,null,{"$f":"SUM(A25:A59)*60+SUM(B25:B59)","v":30},0.5,null,{"$f":"R59*H3/60","v":765.5},null,null,null,"",null,""]
[null,null,null,null,null,null,null,null,null,null,null,null,"Sidan 4","Tom rad 221",null,null,null,{"$f":"SUM(A25:A60)*60+SUM(B25:B60)","v":30},0.5,null,{"$f":"R60*H3/60","v":765.5},null,null,null,"",null,""]
[null,null,null,null,null,null,null,null,null,null,null,null,null,null,null,null,null,{"$f":"SUM(A25:A61)*60+SUM(B25:B61)","v":30},0.5,null,{"$f":"R61*H3/60","v":765.5},null,null,null,"",null,""]
[null,null,null,null,null,null,null,null,null,null,null,null,null,null,null,null,null,{"$f":"SUM(A25:A62)*60+SUM(B25:B62)","v":30},0.5,null,{"$f":"R62*H3/60","v":765.5},null,null,null,"",null,""]
[null,null,null,null,null,null,null,null,null,null,null,null,null,null,null,null,null,{"$f":"SUM(A25:A63)*60+SUM(B25:B63)","v":30},0.5,null,{"$f":"R63*H3/60","v":765.5},null,null,null,"",null,""]
[null,null,null,null,null,null,null,null,null,null,null,null,null,null,null,null,null,{"$f":"SUM(A25:A64)*60+SUM(B25:B64)","v":30},0.5,null,{"$f":"R64*H3/60","v":765.5},null,null,null,"",null,""]
[null,null,null,null,null,null,null,null,null,null,null,null,null,null,null,null,null,{"$f":"SUM(A25:A65)*60+SUM(B25:B65)","v":30},0.5,null,{"$f":"R65*H3/60","v":765.5},null,null,null,"",null,""]
[null,null,null,null,null,null,null,null,null,null,null,null,null,null,null,null,null,{"$f":"SUM(A25:A66)*60+SUM(B25:B66)","v":30},0.5,null,{"$f":"R66*H3/60","v":765.5},null,null,null,"",null,""]
[null,null,null,null,null,null,null,null,null,null,null,null,null,null,null,null,null,{"$f":"SUM(A25:A67)*60+SUM(B25:B67)","v":30},0.5,null,{"$f":"R67*H3/60","v":765.5},null,null,null,"",null,""]
[null,null,null,null,null,null,null,null,null,null,null,null,null,null,null,null,null,{"$f":"SUM(A25:A68)*60+SUM(B25:B68)","v":30},0.5,null,{"$f":"R68*H3/60","v":765.5},null,null,null,"",null,""]
[null,null,null,null,null,null,null,null,null,null,null,null,null,null,null,null,null,{"$f":"SUM(A25:A69)*60+SUM(B25:B69)","v":30},0.5,null,{"$f":"R69*H3/60","v":765.5},null,null,null,"",null,""]
[null,null,null,null,null,null,null,null,null,null,null,null,null,null,null,null,null,{"$f":"SUM(A25:A70)*60+SUM(B25:B70)","v":30},0.5,null,{"$f":"R70*H3/60","v":765.5},null,null,null,"",null,""]
[null,null,null,null,null,null,null,null,null,null,null,null,null,null,null,null,null,{"$f":"SUM(A25:A71)*60+SUM(B25:B71)","v":30},0.5,null,{"$f":"R71*H3/60","v":765.5},null,null,null,"",null,""]
[null,null,null,null,null,null,null,null,null,null,null,null,null,null,null,null,null,{"$f":"SUM(A25:A72)*60+SUM(B25:B72)","v":30},0.5,null,{"$f":"R72*H3/60","v":765.5},null,null,null,"",null,""]
[null,null,null,null,null,null,null,null,null,null,null,null,null,null,null,null,null,{"$f":"SUM(A25:A73)*60+SUM(B25:B73)","v":30},0.5,null,{"$f":"R73*H3/60","v":765.5},null,null,null,"",null,""]
[null,null,null,null,null,null,null,null,null,null,null,null,null,null,null,null,null,{"$f":"SUM(A25:A74)*60+SUM(B25:B74)","v":30},0.5,null,{"$f":"R74*H3/60","v":765.5},null,null,null,"",null,""]
[null,null,".",null,null,null,null,null,null,null,null,null,null,null,null,null,null,{"$f":"SUM(A25:A75)*60+SUM(B25:B75)","v":30},0.5,null,{"$f":"R75*H3/60","v":765.5},null,null,null,"",null,""]
[null,null,null,null,null,null,null,null,null,null,null,null,null,null,null,null,null,{"$f":"SUM(A25:A76)*60+SUM(B25:B76)","v":30},0.5,null,{"$f":"R76*H3/60","v":765.5},null,null,null,"",null,""]
[null,null,null,null,null,null,null,null,null,null,null,null,null,null,null,null,null,{"$f":"SUM(A25:A77)*60+SUM(B25:B77)","v":30},0.5,null,{"$f":"R77*H3/60","v":765.5},null,null,null,"",null,""]
[null,null,null,null,null,null,null,null,null,null,null,null,null,null,null,null,null,{"$f":"SUM(A25:A78)*60+SUM(B25:B78)","v":30},0.5,null,{"$f":"R78*H3/60","v":765.5},null,null,null,"",null,""]
[null,null,null,null,null,null,null,null,null,null,null,null,null,null,null,null,null,{"$f":"SUM(A25:A79)*60+SUM(B25:B79)","v":30},0.5,null,{"$f":"R79*H3/60","v":765.5},null,null,null,"",null,""]
[null,null,null,null,null,null,null,null,null,null,null,null,null,null,null,null,null,{"$f":"SUM(A25:A80)*60+SUM(B25:B80)","v":30},0.5,null,{"$f":"R80*H3/60","v":765.5},null,null,null,"",null,""]
[null,null,null,null,null,null,null,null,null,null,null,null,null,null,null,null,null,{"$f":"SUM(A25:A81)*60+SUM(B25:B81)","v":30},0.5,null,{"$f":"R81*H3/60","v":765.5},null,null,null,"",null,""]
[null,null,null,null,null,null,null,null,null,null,null,null,null,null,null,null,null,{"$f":"SUM(A25:A82)*60+SUM(B25:B82)","v":30},0.5,null,{"$f":"R82*H3/60","v":765.5},null,null,null,"",null,""]
[null,null,null,null,null,null,null,null,null,null,null,null,null,null,null,null,null,{"$f":"SUM(A25:A83)*60+SUM(B25:B83)","v":30},0.5,null,{"$f":"R83*H3/60","v":765.5},null,null,null,"",null,""]
[null,null,null,null,null,null,null,null,null,null,null,null,null,null,null,null,null,{"$f":"SUM(A25:A84)*60+SUM(B25:B84)","v":30},0.5,null,{"$f":"R84*H3/60","v":765.5},null,null,null,"",null,""]
[null,null,null,null,null,null,null,null,null,null,null,null,null,null,null,null,null,{"$f":"SUM(A25:A85)*60+SUM(B25:B85)","v":30},0.5,null,{"$f":"R85*H3/60","v":765.5},null,null,null,"",null,""]
[null,null,null,null,null,null,null,null,null,null,null,null,null,null,null,null,null,{"$f":"SUM(A25:A86)*60+SUM(B25:B86)","v":30},0.5,null,{"$f":"R86*H3/60","v":765.5},null,null,null,"",null,""]
[null,null,null,null,null,null,null,null,null,null,null,null,null,null,null,null,null,{"$f":"SUM(A25:A87)*60+SUM(B25:B87)","v":30},0.5,null,{"$f":"R87*H3/60","v":765.5},null,null,null,"",null,""]
[null,null,null,null,null,null,null,null,null,null,null,null,null,null,null,null,null,{"$f":"SUM(A25:A88)*60+SUM(B25:B88)","v":30},0.5,null,{"$f":"R88*H3/60","v":765.5},null,null,null,"",null,""]
[null,null,null,null,null,null,null,null,null,null,null,null,null,null,null,null,null,{"$f":"SUM(A25:A89)*60+SUM(B25:B89)","v":30},0.5,null,{"$f":"R89*H3/60","v":765.5},null,null,null,{"$f":"IF(A89>0,A89,\"\")","v":""},null,{"$f":"IF(B89>0,B89,\"\")","v":""}]
[null,null,null,null,null,null,null,null,null,null,null,null,null,null,null,null,null,{"$f":"SUM(A25:A90)*60+SUM(B25:B90)","v":30},{"$f":"R90/60","v":0.5},null,{"$f":"R90*H3/60","v":765.5},null,null,null,"",null,""]
[null,null,null,null,null,null,null,null,null,null,null,null,null,null,null,null,null,{"$f":"SUM(A25:A91)*60+SUM(B25:B91)","v":30},0.5,null,{"$f":"R91*H3/60","v":765.5},null,null,null,"",null,""]
[null,null,null,null,null,null,null,null,null,null,null,null,null,null,null,null,null,{"$f":"SUM(A25:A92)*60+SUM(B25:B92)","v":30},0.5,null,{"$f":"R92*H3/60","v":765.5},null,null,null,"",null,""]
[null,null,null,null,null,null,null,null,null,null,null,null,null,null,null,null,null,{"$f":"SUM(A25:A93)*60+SUM(B25:B93)","v":30},0.5,null,{"$f":"R93*H3/60","v":765.5},null,null,null,"",null,""]
[null,null,null,null,null,null,null,null,null,null,null,null,null,null,null,null,null,{"$f":"SUM(A25:A94)*60+SUM(B25:B94)","v":30},0.5,null,{"$f":"R94*H3/60","v":765.5},null,null,null,"",null,""]
[null,null,null,null,null,null,null,null,null,null,null,null,null,null,null,null,null,{"$f":"SUM(A25:A95)*60+SUM(B25:B95)","v":30},0.5,null,{"$f":"R95*H3/60","v":765.5},null,null,null,"",null,""]
[null,null,null,null,null,null,null,null,null,null,null,null,null,null,null,null,null,{"$f":"SUM(A25:A96)*60+SUM(B25:B96)","v":30},0.5,null,{"$f":"R96*H3/60","v":765.5},null,null,null,"",null,""]
[null,null,null,null,null,null,null,null,null,null,null,null,null,null,null,null,null,{"$f":"SUM(A25:A97)*60+SUM(B25:B97)","v":30},0.5,null,{"$f":"R97*H3/60","v":765.5},null,null,null,"",null,""]
[null,null,null,null,null,null,null,null,null,null,null,null,null,null,null,null,null,{"$f":"SUM(A25:A98)*60+SUM(B25:B98)","v":30},0.5,null,{"$f":"R98*H3/60","v":765.5},null,null,null,"",null,""]
[null,null,null,null,null,null,null,null,null,null,null,null,null,null,null,null,null,{"$f":"SUM(A25:A99)*60+SUM(B25:B99)","v":30},0.5,null,{"$f":"R99*H3/60","v":765.5},null,null,null,"",null,""]
[null,null,null,null,null,null,null,null,null,null,null,null,null,null,null,null,null,{"$f":"SUM(A25:A100)*60+SUM(B25:B100)","v":30},0.5,null,{"$f":"R100*H3/60","v":765.5},null,null,null,"",null,""]
[null,null,null,null,null,null,null,null,null,null,null,null,null,null,null,null,null,{"$f":"SUM(A25:A101)*60+SUM(B25:B101)","v":30},0.5,null,{"$f":"R101*H3/60","v":765.5},null,null,null,"",null,""]
[null,null,null,null,null,null,null,null,null,null,null,null,null,null,null,null,null,{"$f":"SUM(A25:A102)*60+SUM(B25:B102)","v":30},0.5,null,{"$f":"R102*H3/60","v":765.5},null,null,null,"",null,""]
[null,null,null,null,null,null,null,null,null,null,null,null,null,null,null,null,null,{"$f":"SUM(A25:A103)*60+SUM(B25:B103)","v":30},0.5,null,{"$f":"R103*H3/60","v":765.5},null,null,null,"",null,""]
[null,null,null,null,null,null,null,null,null,null,null,null,null,null,null,null,null,{"$f":"SUM(A25:A104)*60+SUM(B25:B104)","v":30},0.5,null,{"$f":"R104*H3/60","v":765.5},null,null,null,"",null,""]
[null,null,null,null,null,null,null,null,null,null,null,null,null,null,null,null,null,{"$f":"SUM(A25:A105)*60+SUM(B25:B105)","v":30},0.5,null,{"$f":"R105*H3/60","v":765.5},null,null,null,"",null,""]
[null,null,null,null,null,null,null,null,null,null,null,null,null,null,null,null,null,{"$f":"SUM(A25:A106)*60+SUM(B25:B106)","v":30},0.5,null,{"$f":"R106*H3/60","v":765.5},null,null,null,"",null,""]
[null,null,null,null,null,null,null,null,null,null,null,null,null,null,null,null,null,{"$f":"SUM(A25:A107)*60+SUM(B25:B107)","v":30},0.5,null,{"$f":"R107*H3/60","v":765.5},null,null,null,"",null,""]
[null,null,null,null,null,null,null,null,null,null,null,null,null,null,null,null,null,{"$f":"SUM(A25:A108)*60+SUM(B25:B108)","v":30},0.5,null,{"$f":"R108*H3/60","v":765.5},null,null,null,"",null,""]
[null,null,null,null,null,null,null,null,null,null,null,null,null,null,null,null,null,{"$f":"SUM(A25:A109)*60+SUM(B25:B109)","v":30},0.5,null,{"$f":"R109*H3/60","v":765.5},null,null,null,"",null,""]
[null,null,null,null,null,null,null,null,null,null,null,null,"Sidan 2","Tom rad 109",null,null,null,{"$f":"SUM(A25:A110)*60+SUM(B25:B110)","v":30},0.5,null,{"$f":"R110*H3/60","v":765.5},null,null,null,"",null,""]
[null,null,null,null,null,null,null,null,null,null,null,null,null,null,null,null,null,{"$f":"SUM(A25:A111)*60+SUM(B25:B111)","v":30},0.5,null,{"$f":"R111*H3/60","v":765.5},null,null,null,"",null,""]
[null,null,null,null,null,null,null,null,null,null,null,null,null,null,null,null,null,{"$f":"SUM(A25:A112)*60+SUM(B25:B112)","v":30},0.5,null,{"$f":"R112*H3/60","v":765.5},null,null,null,"",null,""]
[null,null,null,null,null,null,null,null,null,null,null,null,null,null,null,null,null,{"$f":"SUM(A25:A113)*60+SUM(B25:B113)","v":30},0.5,null,{"$f":"R113*H3/60","v":765.5},null,null,null,"",null,""]
[null,null,null,null,null,null,null,null,null,null,null,null,null,null,null,null,null,{"$f":"SUM(A25:A114)*60+SUM(B25:B114)","v":30},0.5,null,{"$f":"R114*H3/60","v":765.5},null,null,null,"",null,""]
[null,null,null,null,null,null,null,null,null,null,null,null,null,null,null,null,null,{"$f":"SUM(A25:A115)*60+SUM(B25:B115)","v":30},0.5,null,{"$f":"R115*H3/60","v":765.5},null,null,null,"",null,""]
[null,null,null,null,null,null,null,null,null,null,null,null,null,null,null,null,null,{"$f":"SUM($A$25:A116)*60+SUM($B$25:B116)","v":30},0.5,null,{"$f":"R116*H3/60","v":765.5},null,null,null,"",null,""]
[null,null,null,null,null,null,null,null,null,null,null,null,null,null,null,null,null,{"$f":"SUM($A$25:A117)*60+SUM($B$25:B117)","v":30},0.5,null,{"$f":"R117*H3/60","v":765.5},null,null,null,"",null,""]
[null,null,null,null,null,null,null,null,null,null,null,null,null,null,null,null,null,{"$f":"SUM($A$25:A118)*60+SUM($B$25:B118)","v":30},0.5,null,{"$f":"R118*H3/60","v":765.5},null,null,null,"",null,""]
[null,null,null,null,null,null,null,null,null,null,null,null,null,null,null,null,null,{"$f":"SUM($A$25:A119)*60+SUM($B$25:B119)","v":30},0.5,null,{"$f":"R119*H3/60","v":765.5},null,null,null,"",null,""]
[null,null,null,null,null,null,null,null,null,null,null,null,null,null,null,null,null,{"$f":"SUM($A$25:A120)*60+SUM($B$25:B120)","v":30},0.5,null,{"$f":"R120*H3/60","v":765.5},null,null,null,"",null,""]
[null,null,null,null,null,null,null,null,null,null,null,null,null,null,null,null,null,{"$f":"SUM($A$25:A121)*60+SUM($B$25:B121)","v":30},0.5,null,{"$f":"R121*H3/60","v":765.5},null,null,null,{"$f":"IF(A121>0,A121,\"\")","v":""},null,{"$f":"IF(B121>0,B121,\"\")","v":""}]
[null,null,null,null,null,null,null,null,null,null,null,null,null,null,null,null,null,{"$f":"SUM($A$25:A122)*60+SUM($B$25:B122)","v":30},0.5,null,{"$f":"R122*H3/60","v":765.5},null,null,null,"",null,""]
[null,null,null,null,null,null,null,null,null,null,null,null,null,null,null,null,null,{"$f":"SUM($A$25:A123)*60+SUM($B$25:B123)","v":30},0.5,null,{"$f":"R123*H3/60","v":765.5},null,null,null,"",null,""]
[null,null,null,null,null,null,null,null,null,null,null,null,null,null,null,null,null,{"$f":"SUM($A$25:A124)*60+SUM($B$25:B124)","v":30},0.5,null,{"$f":"R124*H3/60","v":765.5},null,null,null,"",null,""]
[null,null,null,null,null,null,null,null,null,null,null,null,null,null,null,null,null,{"$f":"SUM($A$25:A125)*60+SUM($B$25:B125)","v":30},0.5,null,{"$f":"R125*H3/60","v":765.5},null,null,null,"",null,""]
[null,null,null,null,null,null,null,null,null,null,null,null,null,null,null,null,null,{"$f":"SUM($A$25:A126)*60+SUM($B$25:B126)","v":30},0.5,null,{"$f":"R126*H3/60","v":765.5},null,null,null,"",null,""]
[null,null,null,null,null,null,null,null,null,null,null,null,null,null,null,null,null,{"$f":"SUM($A$25:A127)*60+SUM($B$25:B127)","v":30},0.5,null,{"$f":"R127*H3/60","v":765.5},null,null,null,"",null,""]
[null,null,null,null,null,null,null,null,null,null,null,null,null,null,null,null,null,{"$f":"SUM($A$25:A128)*60+SUM($B$25:B128)","v":30},0.5,null,{"$f":"R128*H3/60","v":765.5},null,null,null,"",null,""]
[null,null,null,null,null,null,null,null,null,null,null,null,null,null,null,null,null,{"$f":"SUM($A$25:A129)*60+SUM($B$25:B129)","v":30},0.5,null,{"$f":"R129*H3/60","v":765.5},null,null,null,"",null,""]
[null,null,null,null,null,null,null,null,null,null,null,null,null,null,null,null,null,{"$f":"SUM($A$25:A130)*60+SUM($B$25:B130)","v":30},0.5,null,{"$f":"R130*H3/60","v":765.5},null,null,null,"",null,""]
[null,null,null,null,null,null,null,null,null,null,null,null,null,null,null,null,null,{"$f":"SUM($A$25:A131)*60+SUM($B$25:B131)","v":30},0.5,null,{"$f":"R131*H3/60","v":765.5},null,null,null,"",null,""]
[null,null,null,null,null,null,null,null,null,null,null,null,null,null,null,null,null,{"$f":"SUM($A$25:A132)*60+SUM($B$25:B132)","v":30},0.5,null,{"$f":"R132*H3/60","v":765.5},null,null,null,"",null,""]
[null,null,null,null,null,null,null,null,null,null,null,null,null,null,null,null,null,{"$f":"SUM($A$25:A133)*60+SUM($B$25:B133)","v":30},0.5,null,{"$f":"R133*H3/60","v":765.5},null,null,null,"",null,""]
[null,null,null,null,null,null,null,null,null,null,null,null,null,null,null,null,null,{"$f":"SUM($A$25:A134)*60+SUM($B$25:B134)","v":30},0.5,null,{"$f":"R134*H3/60","v":765.5},null,null,null,"",null,""]
[null,null,null,null,null,null,null,null,null,null,null,null,null,null,null,null,null,{"$f":"SUM($A$25:A135)*60+SUM($B$25:B135)","v":30},0.5,null,{"$f":"R135*H3/60","v":765.5},null,null,null,"",null,""]
[null,null,null,null,null,null,null,null,null,null,null,null,null,null,null,null,null,{"$f":"SUM($A$25:A136)*60+SUM($B$25:B136)","v":30},0.5,null,{"$f":"R136*H3/60","v":765.5},null,null,null,"",null,""]
[null,null,null,null,null,null,null,null,null,null,null,null,null,null,null,null,null,{"$f":"SUM($A$25:A137)*60+SUM($B$25:B137)","v":30},0.5,null,{"$f":"R137*H3/60","v":765.5},null,null,null,"",null,""]
[null,null,null,null,null,null,null,null,null,null,null,null,null,null,null,null,null,{"$f":"SUM($A$25:A138)*60+SUM($B$25:B138)","v":30},0.5,null,{"$f":"R138*H3/60","v":765.5},null,null,null,"",null,""]
[null,null,null,null,null,null,null,null,null,null,null,null,null,null,null,null,null,{"$f":"SUM($A$25:A139)*60+SUM($B$25:B139)","v":30},0.5,null,{"$f":"R139*H3/60","v":765.5},null,null,null,"",null,""]
[null,null,null,null,null,null,null,null,null,null,null,null,null,null,null,null,null,{"$f":"SUM($A$25:A140)*60+SUM($B$25:B140)","v":30},0.5,null,{"$f":"R140*H3/60","v":765.5},null,null,null,"",null,""]
[null,null,null,null,null,null,null,null,null,null,null,null,null,null,null,null,null,{"$f":"SUM($A$25:A141)*60+SUM($B$25:B141)","v":30},0.5,null,{"$f":"R141*H3/60","v":765.5},null,null,null,"",null,""]
[null,null,null,null,null,null,null,null,null,null,null,null,null,null,null,null,null,{"$f":"SUM($A$25:A142)*60+SUM($B$25:B142)","v":30},0.5,null,{"$f":"R142*H3/60","v":765.5},null,null,null,"",null,""]
[null,null,null,null,null,null,null,null,null,null,null,null,null,null,null,null,null,{"$f":"SUM($A$25:A143)*60+SUM($B$25:B143)","v":30},0.5,null,{"$f":"R143*H3/60","v":765.5},null,null,null,"",null,""]
[null,null,null,null,null,null,null,null,null,null,null,null,null,null,null,null,null,{"$f":"SUM($A$25:A144)*60+SUM($B$25:B144)","v":30},0.5,null,{"$f":"R144*H3/60","v":765.5},null,null,null,"",null,""]
[null,null,null,null,null,null,null,null,null,null,null,null,null,null,null,null,null,{"$f":"SUM($A$25:A145)*60+SUM($B$25:B145)","v":30},0.5,null,{"$f":"R145*H3/60","v":765.5},null,null,null,"",null,""]
[null,null,null,null,null,null,null,null,null,null,null,null,null,null,null,null,null,{"$f":"SUM($A$25:A146)*60+SUM($B$25:B146)","v":30},0.5,null,{"$f":"R146*H3/60","v":765.5},null,null,null,"",null,""]
[null,null,null,null,null,null,null,null,null,null,null,null,null,null,null,null,null,{"$f":"SUM($A$25:A147)*60+SUM($B$25:B147)","v":30},0.5,null,{"$f":"R147*H3/60","v":765.5},null,null,null,"",null,""]
[null,null,null,null,null,null,null,null,null,null,null,null,null,null,null,null,null,{"$f":"SUM($A$25:A148)*60+SUM($B$25:B148)","v":30},0.5,null,{"$f":"R148*H3/60","v":765.5},null,null,null,"",null,""]
[null,null,null,null,null,null,null,null,null,null,null,null,null,null,null,null,null,{"$f":"SUM($A$25:A149)*60+SUM($B$25:B149)","v":30},0.5,null,{"$f":"R149*H3/60","v":765.5},null,null,null,"",null,""]
[null,null,null,null,null,null,null,null,null,null,null,null,null,null,null,null,null,{"$f":"SUM($A$25:A150)*60+SUM($B$25:B150)","v":30},0.5,null,{"$f":"R150*H3/60","v":765.5},null,null,null,"",null,""]
[null,null,null,null,null,null,null,null,null,null,null,null,null,null,null,null,null,{"$f":"SUM($A$25:A151)*60+SUM($B$25:B151)","v":30},0.5,null,{"$f":"R151*H3/60","v":765.5},null,null,null,"",null,""]
[null,null,null,null,null,null,null,null,null,null,null,null,null,null,null,null,null,{"$f":"SUM($A$25:A152)*60+SUM($B$25:B152)","v":30},0.5,null,{"$f":"R152*H3/60","v":765.5},null,null,null,"",null,""]
[null,null,null,null,null,null,null,null,null,null,null,null,null,null,null,null,null,{"$f":"SUM($A$25:A153)*60+SUM($B$25:B153)","v":30},0.5,null,{"$f":"R153*H3/60","v":765.5},null,null,null,{"$f":"IF(A153>0,A153,\"\")","v":""},null,{"$f":"IF(B153>0,B153,\"\")","v":""}]
[null,null,null,null,null,null,null,null,null,null,null,null,null,null,null,null,null,{"$f":"SUM($A$25:A154)*60+SUM($B$25:B154)","v":30},{"$f":"R154/60","v":0.5},null,{"$f":"R154*H3/60","v":765.5},null,null,null,"",null,""]
[null,null,null,null,null,null,null,null,null,null,null,null,null,null,null,null,null,{"$f":"SUM($A$25:A155)*60+SUM($B$25:B155)","v":30},0.5,null,{"$f":"R155*H3/60","v":765.5},null,null,null,"",null,""]
[null,null,null,null,null,null,null,null,null,null,null,null,null,null,null,null,null,{"$f":"SUM($A$25:A156)*60+SUM($B$25:B156)","v":30},0.5,null,{"$f":"R156*H3/60","v":765.5},null,null,null,"",null,""]
[null,null,null,null,null,null,null,null,null,null,null,null,null,null,null,null,null,{"$f":"SUM($A$25:A157)*60+SUM($B$25:B157)","v":30},0.5,null,{"$f":"R157*H3/60","v":765.5},null,null,null,"",null,""]
[null,null,null,null,null,null,null,null,null,null,null,null,null,null,null,null,null,{"$f":"SUM($A$25:A158)*60+SUM($B$25:B158)","v":30},0.5,null,{"$f":"R158*H3/60","v":765.5},null,null,null,"",null,""]
[null,null,null,null,null,null,null,null,null,null,null,null,null,null,null,null,null,{"$f":"SUM($A$25:A159)*60+SUM($B$25:B159)","v":30},0.5,null,{"$f":"R159*H3/60","v":765.5},null,null,null,"",null,""]
[null,null,null,null,null,null,null,null,null,null,null,null,null,null,null,null,null,{"$f":"SUM($A$25:A160)*60+SUM($B$25:B160)","v":30},0.5,null,{"$f":"R160*H3/60","v":765.5},null,null,null,"",null,""]
[null,null,null,null,null,null,null,null,null,null,null,null,null,null,null,null,null,{"$f":"SUM($A$25:A161)*60+SUM($B$25:B161)","v":30},0.5,null,{"$f":"R161*H3/60","v":765.5},null,null,null,"",null,""]
[null,null,null,null,null,null,null,null,null,null,null,null,null,null,null,null,null,{"$f":"SUM($A$25:A162)*60+SUM($B$25:B162)","v":30},0.5,null,{"$f":"R162*H3/60","v":765.5},null,null,null,"",null,""]
[null,null,null,null,null,null,null,null,null,null,null,null,null,null,null,null,null,{"$f":"SUM($A$25:A163)*60+SUM($B$25:B163)","v":30},0.5,null,{"$f":"R163*H3/60","v":765.5},null,null,null,"",null,""]
[null,null,null,null,null,null,null,null,null,null,null,null,null,null,null,null,null,{"$f":"SUM($A$25:A164)*60+SUM($B$25:B164)","v":30},0.5,null,{"$f":"R164*H3/60","v":765.5},null,null,null,"",null,""]
[null,null,null,null,null,null,null,null,null,null,null,null,null,null,null,null,null,{"$f":"SUM($A$25:A165)*60+SUM($B$25:B165)","v":30},0.5,null,{"$f":"R165*H3/60","v":765.5},null,null,null,"",null,""]
[null,null,null,null,null,null,null,null,null,null,null,null,"Sidan 3","Tom rad 165",null,null,null,{"$f":"SUM($A$25:A166)*60+SUM($B$25:B166)","v":30},0.5,null,{"$f":"R166*H3/60","v":765.5},null,null,null,"",null,""]
[null,null,null,null,null,null,null,null,null,null,null,null,null,null,null,null,null,{"$f":"SUM($A$25:A167)*60+SUM($B$25:B167)","v":30},0.5,null,{"$f":"R167*H3/60","v":765.5},null,null,null,"",null,""]
[null,null,null,null,null,null,null,null,null,null,null,null,null,null,null,null,null,{"$f":"SUM($A$25:A168)*60+SUM($B$25:B168)","v":30},0.5,null,{"$f":"R168*H3/60","v":765.5},null,null,null,"",null,""]
[null,null,null,null,null,null,null,null,null,null,null,null,null,null,null,null,null,{"$f":"SUM($A$25:A169)*60+SUM($B$25:B169)","v":30},0.5,null,{"$f":"R169*H3/60","v":765.5},null,null,null,"",null,""]
[null,null,null,null,null,null,null,null,null,null,null,null,null,null,null,null,null,{"$f":"SUM($A$25:A170)*60+SUM($B$25:B170)","v":30},0.5,null,{"$f":"R170*H3/60","v":765.5},null,null,null,"",null,""]
[null,null,null,null,null,null,null,null,null,null,null,null,null,null,null,null,null,{"$f":"SUM($A$25:A171)*60+SUM($B$25:B171)","v":30},0.5,null,{"$f":"R171*H3/60","v":765.5},null,null,null,"",null,""]
[null,null,null,null,null,null,null,null,null,null,null,null,null,null,null,null,null,{"$f":"SUM($A$25:A172)*60+SUM($B$25:B172)","v":30},0.5,null,{"$f":"R172*H3/60","v":765.5},null,null,null,"",null,""]
[null,null,null,null,null,null,null,null,null,null,null,null,null,null,null,null,null,{"$f":"SUM($A$25:A173)*60+SUM($B$25:B173)","v":30},0.5,null,{"$f":"R173*H3/60","v":765.5},null,null,null,"",null,""]
[null,null,null,null,null,null,null,null,null,null,null,null,null,null,null,null,null,{"$f":"SUM($A$25:A174)*60+SUM($B$25:B174)","v":30},0.5,null,{"$f":"R174*H3/60","v":765.5},null,null,null,"",null,""]
[null,null,null,null,null,null,null,null,null,null,null,null,null,null,null,null,null,{"$f":"SUM($A$25:A175)*60+SUM($B$25:B175)","v":30},0.5,null,{"$f":"R175*H3/60","v":765.5},null,null,null,"",null,""]
[null,null,null,null,null,null,null,null,null,null,null,null,null,null,null,null,null,{"$f":"SUM($A$25:A176)*60+SUM($B$25:B176)","v":30},0.5,null,{"$f":"R176*H3/60","v":765.5},null,null,null,"",null,""]
[null,null,null,null,null,null,null,null,null,null,null,null,null,null,null,null,null,{"$f":"SUM($A$25:A177)*60+SUM($B$25:B177)","v":30},0.5,null,{"$f":"R177*H3/60","v":765.5},null,null,null,"",null,""]
[null,null,null,null,null,null,null,null,null,null,null,null,null,null,null,null,null,{"$f":"SUM($A$25:A178)*60+SUM($B$25:B178)","v":30},0.5,null,{"$f":"R178*H3/60","v":765.5},null,null,null,"",null,""]
[null,null,null,null,null,null,null,null,null,null,null,null,null,null,null,null,null,{"$f":"SUM($A$25:A179)*60+SUM($B$25:B179)","v":30},0.5,null,{"$f":"R179*H3/60","v":765.5},null,null,null,"",null,""]
[null,null,null,null,null,null,null,null,null,null,null,null,null,null,null,null,null,{"$f":"SUM($A$25:A180)*60+SUM($B$25:B180)","v":30},0.5,null,{"$f":"R180*H3/60","v":765.5},null,null,null,"",null,""]
[null,null,null,null,null,null,null,null,null,null,null,null,null,null,null,null,null,{"$f":"SUM($A$25:A181)*60+SUM($B$25:B181)","v":30},0.5,null,{"$f":"R181*H3/60","v":765.5},null,null,null,"",null,""]
[null,null,null,null,null,null,null,null,null,null,null,null,null,null,null,null,null,{"$f":"SUM($A$25:A182)*60+SUM($B$25:B182)","v":30},0.5,null,{"$f":"R182*H3/60","v":765.5},null,null,null,"",null,""]
[null,null,null,null,null,null,null,null,null,null,null,null,null,null,null,null,null,{"$f":"SUM($A$25:A183)*60+SUM($B$25:B183)","v":30},0.5,null,{"$f":"R183*H3/60","v":765.5},null,null,null,"",null,""]
[null,null,null,null,null,null,null,null,null,null,null,null,null,null,null,null,null,{"$f":"SUM($A$25:A184)*60+SUM($B$25:B184)","v":30},0.5,null,{"$f":"R184*H3/60","v":765.5},null,null,null,"",null,""]
[null,null,null,null,null,null,null,null,null,null,null,null,null,null,null,null,null,{"$f":"SUM($A$25:A185)*60+SUM($B$25:B185)","v":30},0.5,null,{"$f":"R185*H3/60","v":765.5},null,null,null,{"$f":"IF(A185>0,A185,\"\")","v":""},null,{"$f":"IF(B185>0,B185,\"\")","v":""}]
[null,null,null,null,null,null,null,null,null,null,null,null,null,null,null,null,null,{"$f":"SUM($A$25:A186)*60+SUM($B$25:B186)","v":30},0.5,null,{"$f":"R186*H3/60","v":765.5},null,null,null,"",null,""]
[null,null,null,null,null,null,null,null,null,null,null,null,null,null,null,null,null,{"$f":"SUM($A$25:A187)*60+SUM($B$25:B187)","v":30},0.5,null,{"$f":"R187*H3/60","v":765.5},null,null,null,"",null,""]
[null,null,null,null,null,null,null,null,null,null,null,null,null,null,null,null,null,{"$f":"SUM($A$25:A188)*60+SUM($B$25:B188)","v":30},0.5,null,{"$f":"R188*H3/60","v":765.5},null,null,null,"",null,""]
[null,null,null,null,null,null,null,null,null,null,null,null,null,null,null,null,null,{"$f":"SUM($A$25:A189)*60+SUM($B$25:B189)","v":30},0.5,null,{"$f":"R189*H3/60","v":765.5},null,null,null,"",null,""]
[null,null,null,null,null,null,null,null,null,null,null,null,null,null,null,null,null,{"$f":"SUM($A$25:A190)*60+SUM($B$25:B190)","v":30},0.5,null,{"$f":"R190*H3/60","v":765.5},null,null,null,"",null,""]
[null,null,null,null,null,null,null,null,null,null,null,null,null,null,null,null,null,{"$f":"SUM($A$25:A191)*60+SUM($B$25:B191)","v":30},0.5,null,{"$f":"R191*H3/60","v":765.5},null,null,null,"",null,""]
[null,null,null,null,null,null,null,null,null,null,null,null,null,null,null,null,null,{"$f":"SUM($A$25:A192)*60+SUM($B$25:B192)","v":30},0.5,null,{"$f":"R192*H3/60","v":765.5},null,null,null,"",null,""]
[null,null,null,null,null,null,null,null,null,null,null,null,null,null,null,null,null,{"$f":"SUM($A$25:A193)*60+SUM($B$25:B193)","v":30},0.5,null,{"$f":"R193*H3/60","v":765.5},null,null,null,"",null,""]
[null,null,null,null,null,null,null,null,null,null,null,null,null,null,null,null,null,{"$f":"SUM($A$25:A194)*60+SUM($B$25:B194)","v":30},0.5,null,{"$f":"R194*H3/60","v":765.5},null,null,null,"",null,""]
[null,null,null,null,null,null,null,null,null,null,null,null,null,null,null,null,null,{"$f":"SUM($A$25:A195)*60+SUM($B$25:B195)","v":30},0.5,null,{"$f":"R195*H3/60","v":765.5},null,null,null,"",null,""]
[null,null,null,null,null,null,null,null,null,null,null,null,null,null,null,null,null,{"$f":"SUM($A$25:A196)*60+SUM($B$25:B196)","v":30},0.5,null,{"$f":"R196*H3/60","v":765.5},null,null,null,"",null,""]
[null,null,null,null,null,null,null,null,null,null,null,null,null,null,null,null,null,{"$f":"SUM($A$25:A197)*60+SUM($B$25:B197)","v":30},0.5,null,{"$f":"R197*H3/60","v":765.5},null,null,null,"",null,""]
[null,null,null,null,null,null,null,null,null,null,null,null,null,null,null,null,null,{"$f":"SUM($A$25:A198)*60+SUM($B$25:B198)","v":30},0.5,null,{"$f":"R198*H3/60","v":765.5},null,null,null,"",null,""]
[null,null,null,null,null,null,null,null,null,null,null,null,null,null,null,null,null,{"$f":"SUM($A$25:A199)*60+SUM($B$25:B199)","v":30},0.5,null,{"$f":"R199*H3/60","v":765.5},null,null,null,"",null,""]
[null,null,null,null,null,null,null,null,null,null,null,null,null,null,null,null,null,{"$f":"SUM($A$25:A200)*60+SUM($B$25:B200)","v":30},0.5,null,{"$f":"R200*H3/60","v":765.5},null,null,null,"",null,""]
[null,null,null,null,null,null,null,null,null,null,null,null,null,null,null,null,null,{"$f":"SUM($A$25:A201)*60+SUM($B$25:B201)","v":30},0.5,null,{"$f":"R201*H3/60","v":765.5},null,null,null,"",null,""]
[null,null,null,null,null,null,null,null,null,null,null,null,null,null,null,null,null,{"$f":"SUM($A$25:A202)*60+SUM($B$25:B202)","v":30},0.5,null,{"$f":"R202*H3/60","v":765.5},null,null,null,"",null,""]
[null,null,null,null,null,null,null,null,null,null,null,null,null,null,null,null,null,{"$f":"SUM($A$25:A203)*60+SUM($B$25:B203)","v":30},0.5,null,{"$f":"R203*H3/60","v":765.5},null,null,null,"",null,""]
[null,null,null,null,null,null,null,null,null,null,null,null,null,null,null,null,null,{"$f":"SUM($A$25:A204)*60+SUM($B$25:B204)","v":30},0.5,null,{"$f":"R204*H3/60","v":765.5},null,null,null,"",null,""]
[null,null,null,null,null,null,null,null,null,null,null,null,null,null,null,null,null,{"$f":"SUM($A$25:A205)*60+SUM($B$25:B205)","v":30},0.5,null,{"$f":"R205*H3/60","v":765.5},null,null,null,"",null,""]
[null,null,null,null,null,null,null,null,null,null,null,null,null,null,null,null,null,{"$f":"SUM($A$25:A206)*60+SUM($B$25:B206)","v":30},0.5,null,{"$f":"R206*H3/60","v":765.5},null,null,null,"",null,""]
[null,null,null,null,null,null,null,null,null,null,null,null,null,null,null,null,null,{"$f":"SUM($A$25:A207)*60+SUM($B$25:B207)","v":30},0.5,null,{"$f":"R207*H3/60","v":765.5},null,null,null,"",null,""]
[null,null,null,null,null,null,null,null,null,null,null,null,null,null,null,null,null,{"$f":"SUM($A$25:A208)*60+SUM($B$25:B208)","v":30},0.5,null,{"$f":"R208*H3/60","v":765.5},null,null,null,"",null,""]
[null,null,null,null,null,null,null,null,null,null,null,null,null,null,null,null,null,{"$f":"SUM($A$25:A209)*60+SUM($B$25:B209)","v":30},0.5,null,{"$f":"R209*H3/60","v":765.5},null,null,null,"",null,""]
[null,null,null,null,null,null,null,null,null,null,null,null,null,null,null,null,null,{"$f":"SUM($A$25:A210)*60+SUM($B$25:B210)","v":30},0.5,null,{"$f":"R210*H3/60","v":765.5},null,null,null,"",null,""]
[null,null,null,null,null,null,null,null,null,null,null,null,null,null,null,null,null,{"$f":"SUM($A$25:A211)*60+SUM($B$25:B211)","v":30},0.5,null,{"$f":"R211*H3/60","v":765.5},null,null,null,"",null,""]
[null,null,null,null,null,null,null,null,null,null,null,null,null,null,null,null,null,{"$f":"SUM($A$25:A212)*60+SUM($B$25:B212)","v":30},0.5,null,{"$f":"R212*H3/60","v":765.5},null,null,null,"",null,""]
[null,null,null,null,null,null,null,null,null,null,null,null,null,null,null,null,null,{"$f":"SUM($A$25:A213)*60+SUM($B$25:B213)","v":30},0.5,null,{"$f":"R213*H3/60","v":765.5},null,null,null,"",null,""]
[null,null,null,null,null,null,null,null,null,null,null,null,null,null,null,null,null,{"$f":"SUM($A$25:A214)*60+SUM($B$25:B214)","v":30},0.5,null,{"$f":"R214*H3/60","v":765.5},null,null,null,"",null,""]
[null,null,null,null,null,null,null,null,null,null,null,null,null,null,null,null,null,{"$f":"SUM($A$25:A215)*60+SUM($B$25:B215)","v":30},0.5,null,{"$f":"R215*H3/60","v":765.5},null,null,null,"",null,""]
[null,null,null,null,null,null,null,null,null,null,null,null,null,null,null,null,null,{"$f":"SUM($A$25:A216)*60+SUM($B$25:B216)","v":30},0.5,null,{"$f":"R216*H3/60","v":765.5},null,null,null,{"$f":"IF(A216>0,A216,\"\")","v":""},null,{"$f":"IF(B216>0,B216,\"\")","v":""}]
[null,null,null,null,null,null,null,null,null,null,null,null,null,null,null,null,null,{"$f":"SUM($A$25:A217)*60+SUM($B$25:B217)","v":30},0.5,null,{"$f":"R217*H3/60","v":765.5},null,null,null,"",null,""]
[null,null,null,null,null,null,null,null,null,null,null,null,null,null,null,null,null,{"$f":"SUM($A$25:A218)*60+SUM($B$25:B218)","v":30},{"$f":"R218/60","v":0.5},null,{"$f":"R218*H3/60","v":765.5},null,null,null,"",null,""]
[null,null,null,null,null,null,null,null,null,null,null,null,null,null,null,null,null,{"$f":"SUM($A$25:A219)*60+SUM($B$25:B219)","v":30},{"$f":"R219/60","v":0.5},null,{"$f":"R219*H3/60","v":765.5},null,null,null,"",null,""]
[null,null,null,null,null,null,null,null,null,null,null,null,null,null,null,null,null,{"$f":"SUM($A$25:A220)*60+SUM($B$25:B220)","v":30},{"$f":"R220/60","v":0.5},null,{"$f":"R220*H3/60","v":765.5},null,null,null,"",null,""]
[null,null,null,null,null,null,null,null,null,null,null,null,null,null,null,null,null,{"$f":"SUM($A$25:A221)*60+SUM($B$25:B221)","v":30},{"$f":"R221/60","v":0.5},null,{"$f":"R221*H3/60","v":765.5},null,null,null,"",null,""]
[null,null,null,null,null,null,null,null,null,null,null,null,"Sidan 4","Tom rad 221",null,null,null,{"$f":"SUM($A$25:A222)*60+SUM($B$25:B222)","v":30},{"$f":"R222/60","v":0.5},null,{"$f":"R222*H3/60","v":765.5},null,null,null,"",null,""]

{"sheet":"Faktura","index":1,"n_rows":56,"n_cols":7,"rows_kept":56,"cut":false,"hidden":false,"merged":[[47,0,47,2],[48,0,48,2],[55,0,55,3],[50,0,50,6],[52,0,52,1],[53,0,53,1],[54,0,54,6],[55,4,55,6],[51,0,51,1],[29,0,29,5],[30,0,30,5],[31,0,31,5],[40,0,40,5],[32,0,32,5],[33,0,33,5],[37,0,37,5],[39,0,39,5],[34,0,34,5],[36,0,36,5],[35,0,35,5],[38,0,38,5],[24,0,24,5],[25,0,25,5],[26,0,26,5],[27,0,27,5],[28,0,28,5],[23,0,23,5],[12,0,12,4],[13,0,13,6],[14,0,14,6],[15,0,15,5],[20,0,20,5],[21,0,21,5],[16,0,16,5],[17,0,17,5],[18,0,18,5],[19,0,19,5],[5,0,5,4],[5,5,5,6],[6,0,6,4],[7,0,7,4],[22,0,22,5],[11,0,11,6],[6,5,6,6],[7,5,7,6],[10,0,10,6],[8,5,8,6],[8,0,8,4],[9,0,9,6],[12,5,12,6],[4,0,4,6],[0,0,0,6],[1,0,1,4],[2,0,2,4],[3,0,3,6],[41,3,41,5],[42,3,42,5],[43,3,43,5],[44,3,44,5],[49,0,49,2],[41,0,41,2],[42,0,42,2],[43,0,43,2],[44,0,44,2],[45,3,45,5],[46,3,46,5],[47,3,47,5],[48,3,48,5],[49,3,49,5],[45,0,45,2],[46,0,46,2]]}
["Advokatfirman von Schéele"]
[" ",null,null,null,null,"Datum","Dnr"]
["Advokaten Inge von Schéele",null,null,null,null,{"$f":"TODAY()","v":"2023-12-21"},{"$f":"Tidkort!A4","v":0}]
[]
[" "]
[" "]
[]
[]
[]
[]
[" "]
[]
["FAKTURA",null,null,null,null,"Betalningsvillkor: 10 dagar."]
["Underlåtenhet att betala medför skyldighet att utge ränta enligt räntelagen."]
[]
[]
["Belopp enligt bifogat tidkort, exkl moms.",null,null,null,null,null,{"$f":"Tidkort!K36","v":765.5}]
[]
[]
[null,null,null,null,null,null," "]
[]
[]
[]
[null,null,null,null,null,null," "]
[null,null,null,null,null,null," "]
[]
[]
[]
[]
[]
[]
[]
[]
[]
[]
[]
[]
[]
[]
[]
[" "]
[null,null,null,"Summa kronor exkl moms",null,null,{"$f":"Tidkort!K36","v":765.5}]
[null,null,null,"Moms 25 %, ev. avrundat belopp",null,null,{"$f":"Tidkort!K38","v":191.375}]
[null,null,null,"Summa kronor inkl moms",null,null,{"$f":"Tidkort!K40","v":956.875}]
[null,null,null,"Momsfria utlägg",null,null,{"$f":"Tidkort!K42","v":0}]
[null,null,null,"Avgår erlagt förskott inkl moms",null,null,{"$f":"Tidkort!K44","v":0}]
[null,null,null,"Avgår tidigare fakturerat belopp inkl moms",null,null,{"$f":"Tidkort!K47","v":0}]
[null,null,null,"Summa kr före avrundning inkl moms",null,null,{"$f":"Tidkort!K50","v":956.875}]
[null,null,null,"Momsfri öresutjämning",null,null,{"$f":"Tidkort!K52","v":0.125}]
[null,null,null,"Summa kronor att betala inkl moms",null,null,{"$f":"Tidkort!K54","v":957}]
[]
["Adress och säte",null,"   Telefon","       Telefax","Swish","Bankgiro","Org.nr"]
["Snickaregatan 21",null,"070-537 07 89","       -","070-537 07 89","222-2321","440102-2654"]
["571 61  BODAFORS",null,"0380-122 15",null,null,null,"F-skatt"]
[]
["E-post:  advokatfirman.von.scheele@gmail.com",null,null,null,"Hemsida:  http://www.von.scheele.se"]

{"sheet":"Kostn.räkn.","index":2,"n_rows":56,"n_cols":20,"rows_kept":56,"cut":false,"hidden":false,"merged":[[44,8,44,9],[46,3,46,5],[47,3,47,5],[44,3,44,5],[45,3,45,5],[40,3,40,5],[41,3,41,5],[38,0,38,5],[34,8,34,9],[35,8,35,9],[35,0,35,5],[38,8,38,9],[37,0,37,5],[36,8,36,9],[36,0,36,5],[34,0,34,5],[46,0,46,2],[47,0,47,2],[40,0,40,2],[41,0,41,2],[42,0,42,2],[43,0,43,2],[44,0,44,2],[45,0,45,2],[42,3,42,5],[43,3,43,5],[39,8,39,9],[40,8,40,9],[42,8,42,9],[43,8,43,9],[32,8,32,9],[33,0,33,5],[39,0,39,5],[32,0,32,5],[48,3,48,5],[55,0,55,3],[50,0,50,6],[51,0,51,1],[54,0,54,6],[53,0,53,1],[52,0,52,1],[49,3,49,5],[49,0,49,2],[55,4,55,6],[48,0,48,2],[0,0,0,6],[1,0,1,4],[2,0,2,4],[3,0,3,6],[16,0,16,5],[21,0,21,5],[19,0,19,5],[18,0,18,5],[20,0,20,5],[17,0,17,5],[16,8,16,9],[18,8,18,9],[19,8,19,9],[8,8,8,9],[14,8,14,9],[23,8,23,9],[22,0,22,5],[30,0,30,5],[4,0,4,6],[5,0,5,6],[25,0,25,5],[26,0,26,5],[8,0,8,4],[24,0,24,5],[6,0,6,4],[6,5,6,6],[30,8,30,9],[2,11,2,12],[3,11,3,12],[4,11,4,12],[15,0,15,5],[13,0,13,6],[14,11,14,12],[6,8,6,9],[7,8,7,9],[15,8,15,9],[7,0,7,4],[9,0,9,6],[12,0,12,6],[7,5,7,6],[11,0,11,6],[14,0,14,5],[8,5,8,6],[2,8,2,9],[3,8,3,9],[4,8,4,9],[31,8,31,9],[28,8,28,9],[22,8,22,9],[20,8,20,9],[26,8,26,9],[27,8,27,9],[24,8,24,9],[31,0,31,5],[28,0,28,5],[29,0,29,5],[23,0,23,5],[27,0,27,5]]}
["Advokatfirman von Schéele"]
[" ",null,null,null,null,"Datum","Dnr"]
["Advokaten Inge von Schéele",null,null,null,null,{"$f":"TODAY()","v":"2023-12-21"},{"$f":"Tidkort!A4","v":0},null,"Eksjö tingsrätt",null,null,"Jönköpings tingsrätt"]
[null,null,null,null,null,null,null,null,"Box 230",null,null,"Box 2243"]
[null,null,null,null,null,null,null,null,"575 23  EKSJÖ",null,null,"550 02  JÖNKÖPING"]
[]
[null,null,null,null,null,"Eksjö tingsrätt",null,null,"Göta hovrätt"]
[null,null,null,null,null,"Box 230",null,null,"Box 2223"]
["Målnummer",null,null,null,null,"575 23  EKSJÖ",null,null,"550 02  JÖNKÖPING"]
[{"$f":"Tidkort!J7","v":0}]
[]
["KOSTNADSRÄKNING"]
[]
[]
[null,null,null,null,null,null,null,null,"Migrationsverket"]
["Såsom ombud och (offentlig försvarare) (biträde enligt rättshjälpslagen) (offentligt biträde) (särskild företrädare) för *",null,null,null,null,null,null,null,"Box 3147"]
["i mål mot * angående *",null,null,null,null,null,null,null,"200 22  MALMÖ",null,null,null,null,null,null,null,null,null,null,0]
["får jag härmed hemställa om ersättning enligt bifogat tidkort, exkl moms.",null,null,null,null,null,{"$f":"Tidkort!K36","v":765.5}]
[null,null,null,null,null,null,null,null,"Migrationsverket"]
["Tidsspillan mm enligt bilaga. ",null,null,null,null,null,{"$f":"Resor!N26","v":0},null,"Streteredsvägen 88"]
[null,null,null,null,null,null,null,null,"428 80  KÅLLERED"]
[]
[null,null,null,null,null,null," ",null,"Migrationsverket"]
[null,null,null,null,null,null,null,null,"Box 209"]
[null,null,null,null,null,null,null,null,"642 23  FLEN"]
[]
[null,null,null,null,null,null,null,null,"Migrationsdomstolen/Förv.rätten"]
[null,null,null,null,null,null,null,null,"Box 4522"]
[null,null,null,null,null,null,null,null,"203 20  MALMÖ"]
[]
[null,null,null,null,null,null,null,null,"Migrationsdomstolen/Förv.rätten"]
[null,null,null,null,null,null,null,null,"Box 53197"]
[null,null,null,null,null,null,null,null,"400 15  GÖTEBORG"]
[]
[null,null,null,null,null,null,null,null,"Migrationsdomstolen"]
[null,null,null,null,null,null,null,null,"Förvaltningsrätten"]
[null,null,null,null,null,null,null,null,"115 76  STOCKHOLM"]
[]
[null,null,null,null,null,null,null,null,"Migrationsöverdomstolen"]
[" ",null,null,null,null,null,null,null,"Box 2302"]
[null,null,null,null,null,null,null,null,"103 17  STOCKHOLM"]
["Bodafors som ovan",null,null,"Summa kronor exkl moms",null,null,{"$f":"Tidkort!K36","v":765.5}]
[null,null,null,"Moms 25 %, ev. avrundat belopp",null,null,{"$f":"Tidkort!K38","v":191.375},null,"Förvaltningsrätten"]
[null,null,null,"Summa kronor inkl moms",null,null,{"$f":"Tidkort!K40","v":956.875},null,"Box 2201"]
[null,null,null,"Momsfria utlägg",null,null,{"$f":"Tidkort!K42","v":0},null,"550 02  JÖNKÖPING"]
[null,null,null,"Avgår erlagt förskott inkl moms",null,null,{"$f":"Tidkort!K44","v":0}]
[null,null,null,"Avgår tidigare fakturerat belopp inkl moms",null,null,{"$f":"Tidkort!K47","v":0}]
[null,null,null,"Summa kr före avrundning inkl moms",null,null,{"$f":"SUM(G44:G47)","v":956.875}]
[null,null,null,"Momsfri öresutjämning",null,null,{"$f":"Tidkort!K52","v":0.125}]
["Inge von Schéele",null,null,"Yrkat belopp inkl moms",null,null,{"$f":"SUM(G48:G49)","v":957}]
[]
["Adress och säte",null,"   Telefon","     Telefax","Swish","Bankgiro","Org.nr"]
["Snickaregatan 21",null,"070-537 07 89","     -","070-537 07 89","222-2321","440102-2654"]
["571 61  BODAFORS",null,"0380-122 15",null,null,null,"F-skatt"]
[]
["E-post:  advokatfirman.von.scheele@gmail.com",null,null,null,"Hemsida:  http://www.von.scheele.se"]

{"sheet":"Kostn.räkn.förhandl.","index":3,"n_rows":55,"n_cols":12,"rows_kept":55,"cut":false,"hidden":false,"merged":[[0,0,0,6],[1,0,1,4],[2,0,2,4],[3,0,3,6],[6,5,6,6],[4,0,4,6],[5,0,5,6],[7,5,7,6],[32,0,32,5],[27,0,27,5],[6,0,6,4],[7,0,7,4],[15,0,15,5],[21,0,21,5],[17,0,17,5],[18,0,18,5],[20,0,20,5],[19,0,19,5],[16,0,16,5],[14,0,14,5],[8,0,8,4],[8,5,8,6],[9,0,9,6],[12,0,12,6],[11,0,11,6],[13,0,13,6],[38,8,38,9],[52,0,52,1],[51,0,51,1],[50,0,50,1],[43,3,43,5],[44,3,44,5],[42,8,42,9],[43,8,43,9],[41,8,41,9],[39,8,39,9],[44,8,44,9],[40,8,40,9],[36,8,36,9],[32,8,32,9],[31,8,31,9],[35,8,35,9],[34,8,34,9],[34,0,34,5],[33,0,33,5],[30,0,30,5],[31,0,31,5],[30,8,30,9],[22,0,22,5],[23,0,23,5],[24,0,24,5],[25,0,25,5],[28,0,28,5],[29,0,29,5],[26,0,26,5],[2,11,2,12],[3,11,3,12],[4,11,4,12],[24,8,24,9],[27,8,27,9],[19,8,19,9],[7,8,7,9],[2,8,2,9],[3,8,3,9],[4,8,4,9],[14,8,14,9],[6,8,6,9],[16,8,16,9],[20,8,20,9],[8,8,8,9],[18,8,18,9],[15,8,15,9],[40,0,40,2],[41,0,41,2],[42,0,42,2],[49,0,49,6],[45,3,45,5],[40,3,40,5],[43,0,43,2],[44,0,44,2],[45,0,45,2],[41,3,41,5],[42,3,42,5],[28,8,28,9],[26,8,26,9],[23,8,23,9],[22,8,22,9],[53,0,53,6],[48,0,48,2],[54,5,54,6],[46,0,46,2],[47,0,47,2],[46,3,46,5],[47,3,47,5],[48,3,48,5],[54,0,54,3]]}
["Advokatfirman von Schéele"]
[" ",null,null,null,null,"Datum","Dnr"]
["Advokaten Inge von Schéele",null,null,null,null,{"$f":"TODAY()+1","v":"2023-12-22"},{"$f":"Tidkort!A4","v":0},null,"Eksjö tingsrätt",null,null,"Jönköpings tingsrätt"]
[null,null,null,null,null,null,null,null,"Box 230",null,null,"Box 2243"]
[null,null,null,null,null,null,null,null,"575 23  EKSJÖ",null,null,"550 02  JÖNKÖPING"]
[" "]
[null,null,null,null,null,"Eksjö tingsrätt",null,null,"Göta hovrätt"]
[null,null,null,null,null,"Box 230",null,null,"Box 2223"]
["Målnummer",null,null,null,null,"575 23  EKSJÖ",null,null,"550 02  JÖNKÖPING"]
[{"$f":"Tidkort!J7","v":0}]
[]
["KOSTNADSRÄKNING"]
[]
[]
[null,null,null,null,null,null,null,null,"Migrationsverket"]
["Såsom *(ombud och biträde enligt rättshjälpslagen) för *",null,null,null,null,null,null,null,"Box 3147"]
["i mål mot * angående *",null,null,null,null,null,null,null,"200 22  MALMÖ"]
["får jag härmed hemställa om ersättning enligt följande."]
[null,null,null,null,null,null,null,null,"Migrationsverket"]
["Belopp enligt bifogat tidkort, exkl moms.",null,null,null,null,null,{"$f":"Tidkort!K36","v":765.5}]
[null,null,null,null,null,null,null,null,"428 80  KÅLLERED"]
["Tillkommande arvode vid huvudförhandlingen, inkl ev. överläggningar,",null,null,null,null,null,null,"Tim"]
["ca                tim, exkl moms.",null,null,null,null,null,{"$f":"H23*Tidkort!H3","v":0},null,"Migrationsverket"]
[" ",null,null,null,null,null,{"$f":"H24*Tidkort!H3","v":0},null,"Box 209"]
["Tillkommande parkeringsavgift vid huvudförhandlingen, exkl moms.",null,null,null,null,null,null,null,"642 23  FLEN"]
[]
["Tillkommande traktamente vid huvudförhandlingen, exkl moms.",null,null,null,null,null,null,null,"Migrationsdomstolen/Förv.rätten"]
["Avresa klockan *",null,null,null,null,null,null,null,"Box 4522"]
["Hemkomst efter klockan *",null,null,null,null,null,null,null,"203 20  MALMÖ"]
[]
["Tidsspillan mm enligt bilaga. ",null,null,null,null,null,{"$f":"Resor!N26","v":0},null,"Migrationsdomstolen/Förv.rätten"]
[null,null,null,null,null,null,null,null,"Box 53197"]
[null,null,null,null,null,null,null,null,"400 15  GÖTEBORG"]
[]
[null,null,null,null,null,null,null,null,"Migrationsdomstolen"]
["SUMMERING AV ARVODET",null,null,null,"Kronor",null,null,null,"Förvaltningsrätten"]
["Arvode enligt tidkortet, exkl moms.",null,null,null,{"$f":"Tidkort!K24","v":765.5},null,null,null,"115 76  STOCKHOLM"]
["Arvode enligt ovan, exkl moms.",null,null,null,{"$f":"G23","v":0}]
["Arvode totalt, eventuellt avrundat, exkl moms.",null,null,null,{"$f":"IF(H23=0,\"\",E37+E38)","v":""},null,null,null,"Migrationsöverdomstolen"]
[" ",null,null,null,null,null,null,null,"Box 2302"]
["Som ovan",null,null,"Summa kronor exkl moms",null,null,null,{"$f":"SUM(G15:G35)","v":765.5},"103 17  STOCKHOLM"]
[null,null,null,"Moms 25 %, ev. avrundat belopp",null,null,{"$f":"G41*0.25","v":0},{"$f":"H41*0.25","v":191.375}]
[null,null,null,"Summa kronor inkl moms",null,null,{"$f":"SUM(G41:G42)","v":0},{"$f":"SUM(H41:H42)","v":956.875},"Förvaltningsrätten"]
[null,null,null,"Momsfria utlägg",null,null,{"$f":"Tidkort!K42","v":0},{"$f":"Tidkort!K42","v":0},"Box 2202"]
[null,null,null,"Avgår erlagt förskott inkl moms",null,null,{"$f":"Tidkort!K44","v":0},{"$f":"Tidkort!K44","v":0},"551 02  JÖNKÖPING"]
[null,null,null,"Avgår tidigare fakturerat belopp inkl moms",null,null,{"$f":"Tidkort!K47","v":0},{"$f":"Tidkort!K47","v":0}]
[null,null,null,"Summa kr före avrundning inkl moms",null,null,{"$f":"SUM(G43:G46)","v":0},{"$f":"SUM(H43:H46)","v":956.875}]
[null,null,null,"Momsfri öresutjämning",null,null,null,{"$f":"J48","v":0.125},"Öresavrundning",{"$f":"J49-H47","v":0.125}]
["Inge von Schéele",null,null,"Yrkat belopp inkl moms",null,null,{"$f":"SUM(G47:G48)","v":0},{"$f":"SUM(H47:H48)","v":957},"Heltal av cell H47",{"$f":"ROUND((H47),0)","v":957}]
[]
["Adress och säte",null," Telefon","     Telefax","Swish","Bankgiro","Org.nr"]
["Snickaregatan 21",null,"070-537 07 89","     -","070-537 07 89","222-2321","440102-2654"]
["571 61  BODAFORS",null,"0380-122 15",null,null,null,"F-skatt"]
[]
["E-post:  advokatfirman.von.scheele@gmail.com",null,null,null,null,"Hemsida:  http://www.von.scheele.se"]

{"sheet":"Kostn.räkn.lista","index":4,"n_rows":55,"n_cols":12,"rows_kept":55,"cut":false,"hidden":false,"merged":[[54,4,54,6],[44,8,44,9],[40,0,40,2],[41,0,41,2],[42,0,42,2],[43,0,43,2],[44,0,44,2],[43,8,43,9],[40,3,40,5],[41,3,41,5],[46,0,46,2],[47,0,47,2],[48,0,48,2],[46,3,46,5],[43,3,43,5],[44,3,44,5],[45,3,45,5],[47,3,47,5],[48,3,48,5],[45,0,45,2],[0,0,0,6],[1,0,1,4],[2,0,2,4],[3,0,3,6],[17,0,17,5],[18,0,18,5],[36,8,36,9],[26,8,26,9],[27,8,27,9],[28,8,28,9],[35,8,35,9],[31,8,31,9],[32,8,32,9],[34,8,34,9],[28,0,28,5],[22,0,22,5],[24,0,24,5],[20,0,20,5],[21,0,21,5],[36,0,36,5],[26,0,26,5],[33,0,33,5],[7,8,7,9],[20,8,20,9],[37,0,37,5],[38,0,38,5],[39,0,39,5],[6,8,6,9],[54,0,54,3],[49,0,49,6],[50,0,50,1],[52,0,52,1],[51,0,51,1],[53,0,53,6],[29,0,29,5],[30,0,30,5],[31,0,31,5],[34,0,34,5],[35,0,35,5],[32,0,32,5],[7,5,7,6],[38,8,38,9],[39,8,39,9],[41,8,41,9],[42,3,42,5],[42,8,42,9],[40,8,40,9],[24,8,24,9],[2,11,2,12],[3,11,3,12],[4,11,4,12],[4,0,4,6],[2,8,2,9],[14,11,14,12],[6,0,6,4],[6,5,6,6],[5,0,5,6],[7,0,7,4],[14,8,14,9],[8,5,8,6],[8,8,8,9],[13,0,13,6],[11,0,11,6],[12,0,12,6],[9,0,9,6],[8,0,8,4],[3,8,3,9],[4,8,4,9],[14,0,14,5],[30,8,30,9],[15,0,15,5],[16,0,16,5],[25,0,25,5],[22,8,22,9],[23,8,23,9],[18,8,18,9],[19,8,19,9],[16,8,16,9],[15,8,15,9],[27,0,27,5],[23,0,23,5],[19,0,19,5]]}
["Advokatfirman von Schéele"]
[" ",null,null,null,null,"Datum","Dnr"]
["Advokaten Inge von Schéele",null,null,null,null,{"$f":"TODAY()+1","v":"2023-12-22"},{"$f":"Tidkort!A4","v":0},null,"Eksjö tingsrätt",null,null,"Jönköpings tingsrätt"]
[null,null,null,null,null,null,null,null,"Box 230",null,null,"Box 2243"]
[null,null,null,null,null,null,null,null,"575 23  EKSJÖ",null,null,"550 02  JÖNKÖPING"]
[" "]
[null,null,null,null,null,"Eksjö tingsrätt",null,null,"Göta hovrätt"]
[null,null,null,null,null,"Box 230",null,null,"Box 2223"]
["Målnummer",null,null,null,null,"575 23  EKSJÖ",null,null,"550 02  JÖNKÖPING"]
[{"$f":"Tidkort!J7","v":0}]
[]
["KOSTNADSRÄKNING"]
[]
[]
[null,null,null,null,null,null,null,null,"Migrationsverket"]
["Såsom *(ombud och offentligt biträde enligt rättshjälpslagen) för *",null,null,null,null,null,null,null,"Box 3147"]
["i mål mot * angående *",null,null,null,null,null,null,null,"200 22  MALMÖ"]
["får jag härmed hemställa om ersättning enligt följande."]
[null,null,null,null,null,null,null,null,"Migrationsverket"]
["UTLÄGG",null,null,null,null,null,null,null,"Streteredsvägen 88"]
["Resa med bil Bodafors-*-Bodafors vid huvudförhandlingen,",null,null,null,null,null,null,"Mil","428 80  KÅLLERED"]
["ca * mil à kr 30,50.",null,null,null,null,null,{"$f":"H22*Tidkort!I2","v":0}]
["Parkeringsavgift vid huvudförhandlingen.",null,null,null,null,null,null,null,"Migrationsverket"]
[null,null,null,null,null,null,null,null,"Box 209"]
["TIDSSPILLAN",null,null,null,null,null,null,"Tim","642 23  FLEN"]
["Tidsspillan vid ovan nämnd resa, ca                tim à kr 918,00, låga taxan.",null,null,null,null,null,{"$f":"H26*Tidkort!G2","v":0}]
["Tidsspillan vid ovan nämnd resa, ca                tim à kr 1 400,00, normaltaxan.",null,null,null,null,null,{"$f":"H27*Tidkort!G3","v":0},null,"Migrationsdomstolen/Förv.rätten"]
["Pauser i huvudförhandlingen, ca                     tim à kr 1 400,00, normaltaxan.",null,null,null,null,null,{"$f":"H28*Tidkort!G3","v":0},null,"Box 4522"]
[null,null,null,null,null,null,null,null,"203 20  MALMÖ"]
["ARBETE"]
["Arvode för arbete enligt bifogad arbetsbeskrivning.",null,null,null,null,null,{"$f":"Arbetsbeskrivn.!J46","v":0},null,"Migrationsdomstolen/Förv.rätten"]
[null,null,null,null,null,null,null,null,"Box 53197"]
["TRAKTAMENTE",null,null,null,null,null,null,null,"400 15  GÖTEBORG"]
["Traktamente vid huvudförhandlingen."]
["Avresa klockan *",null,null,null,null,null,null,null,"Migrationsdomstolen"]
["Hemkomst efter klockan ",null,null,null,null,null,null,null,"Förvaltningsrätten"]
[null,null,null,null,null,null,null,null,"115 76  STOCKHOLM"]
[]
["Ovanstående belopp har angivits exkl moms.",null,null,null,null,null,null,null,"Migrationsöverdomstolen"]
[" ",null,null,null,null,null,null,"Summa","Box 2302"]
["Som ovan",null,null,"Summa kronor exkl moms",null,null,null,{"$f":"SUM(G15:G40)","v":0},"103 17  STOCKHOLM"]
[null,null,null,"Moms 25 %, ev. avrundat belopp",null,null,null,{"$f":"H41*0.25","v":0}]
[null,null,null,"Summa kronor inkl moms",null,null,null,{"$f":"H41+H42","v":0},"Förvaltningsrätten"]
[null,null,null,"Momsfria utlägg",null,null,{"$f":"Tidkort!K42","v":0},null,"Box 2202"]
[null,null,null,"Avgår erlagt förskott inkl moms",null,null,{"$f":"Tidkort!K44","v":0},null,"551 02  JÖNKÖPING"]
[null,null,null,"Avgår tidigare fakturerat belopp inkl moms",null,null,{"$f":"Tidkort!K47","v":0}]
[null,null,null,"Summa kr före avrundning inkl moms",null,null,null,{"$f":"H43+G44+G45+G46","v":0}]
[null,null,null,"Momsfri öresutjämning"]
["Inge von Schéele",null,null,"Yrkat belopp inkl moms",null,null,null,{"$f":"H47+H48","v":0}]
[]
["Adress och säte",null,"Telefon","      Telefax","Swish","        Bankgiro","Org.nr"]
["Snickaregatan 21",null,"070-537 07 89","      -","080-537 07 89","        222-2321","440102-2654"]
["571 61  BODAFORS",null,"0380-122 15",null,null,null,"F-skatt"]
[]
["E-post:  advokatfirman.von.scheele@gmail.com",null,null,null,"Hemsida:  http://www.von.scheele.se"]

{"sheet":"Arbetsbeskrivn.","index":5,"n_rows":47,"n_cols":10,"rows_kept":47,"cut":false,"hidden":false,"merged":[[47,4,47,7],[43,4,43,6],[44,4,44,6],[45,4,45,6],[46,4,46,6],[18,4,18,7],[8,4,8,7],[23,4,23,7],[27,4,27,7],[33,4,33,7],[30,4,30,7],[19,4,19,7],[9,4,9,7],[13,4,13,7],[12,4,12,7],[14,4,14,7],[17,4,17,7],[15,4,15,7],[16,4,16,7],[20,4,20,7],[22,4,22,7],[4,4,4,7],[10,4,10,7],[11,4,11,7],[6,4,6,7],[5,4,5,7],[7,4,7,7],[21,4,21,7],[37,4,37,6],[38,4,38,6],[31,4,31,7],[35,4,35,7],[34,4,34,7],[26,4,26,7],[24,4,24,7],[28,4,28,7],[29,4,29,7],[25,4,25,7],[46,1,46,2],[45,1,45,2],[42,4,42,6],[41,4,41,6],[40,4,40,6],[39,4,39,6],[38,9,38,11],[39,9,39,11],[44,9,44,11],[45,9,45,11]]}
[]
[]
[null,null,null,null,null,null,"ARBETSBESKRIVNING","Dnr"]
[null,null,null,null,null,null,null,{"$f":"Tidkort!A4","v":0}]
[null,"Tim","Min",null,"ARBETE",null,null,null,"Datum"]
[null,{"$f":"Tidkort!A25","v":0},{"$f":"Tidkort!B25","v":0},null,{"$f":"Tidkort!C25","v":0},null,null,null,{"$f":"Tidkort!F25","v":"00:00:00"}]
[null,{"$f":"Tidkort!A26","v":0},{"$f":"Tidkort!B26","v":0},null,{"$f":"Tidkort!C26","v":0},null,null,null,{"$f":"Tidkort!F26","v":"00:00:00"}]
[null,{"$f":"Tidkort!A27","v":0},{"$f":"Tidkort!B27","v":0},null,{"$f":"Tidkort!C27","v":0},null,null,null,{"$f":"Tidkort!F27","v":"00:00:00"}]
[null,{"$f":"Tidkort!A28","v":0},{"$f":"Tidkort!B28","v":0},null,{"$f":"Tidkort!C28","v":0},null,null,null,{"$f":"Tidkort!F28","v":"00:00:00"},"Skriv ej direkt här. Använd i stället tidkortet."]
[null,{"$f":"Tidkort!A29","v":0},{"$f":"Tidkort!B29","v":0},null,{"$f":"Tidkort!C29","v":0},null,null,null,{"$f":"Tidkort!F29","v":"00:00:00"}]
[null,{"$f":"Tidkort!A30","v":0},{"$f":"Tidkort!B30","v":0},null,{"$f":"Tidkort!C30","v":0},null,null,null,{"$f":"Tidkort!F30","v":"00:00:00"}]
[null,{"$f":"Tidkort!A31","v":0},{"$f":"Tidkort!B31","v":0},null,{"$f":"Tidkort!C31","v":0},null,null,null,{"$f":"Tidkort!F31","v":"00:00:00"}]
[null,{"$f":"Tidkort!A32","v":0},{"$f":"Tidkort!B32","v":0},null,{"$f":"Tidkort!C32","v":0},null,null,null,{"$f":"Tidkort!F32","v":"00:00:00"}]
[null,{"$f":"Tidkort!A33","v":0},{"$f":"Tidkort!B33","v":0},null,{"$f":"Tidkort!C33","v":0},null,null,null,{"$f":"Tidkort!F33","v":"00:00:00"}]
[null,{"$f":"Tidkort!A34","v":0},{"$f":"Tidkort!B34","v":0},null,{"$f":"Tidkort!C34","v":0},null,null,null,{"$f":"Tidkort!F34","v":"00:00:00"}]
[null,{"$f":"Tidkort!A35","v":0},{"$f":"Tidkort!B35","v":0},null,{"$f":"Tidkort!C35","v":0},null,null,null,{"$f":"Tidkort!F35","v":"00:00:00"}]
[null,{"$f":"Tidkort!A36","v":0},{"$f":"Tidkort!B36","v":0},null,{"$f":"Tidkort!C36","v":0},null,null,null,{"$f":"Tidkort!F36","v":"00:00:00"}]
[null,{"$f":"Tidkort!A37","v":0},{"$f":"Tidkort!B37","v":0},null,{"$f":"Tidkort!C37","v":0},null,null,null,{"$f":"Tidkort!F37","v":"00:00:00"}]
[null,{"$f":"Tidkort!A38","v":0},{"$f":"Tidkort!B38","v":0},null,{"$f":"Tidkort!C38","v":0},null,null,null,{"$f":"Tidkort!F38","v":"00:00:00"}]
[null,{"$f":"Tidkort!A39","v":0},{"$f":"Tidkort!B39","v":0},null,{"$f":"Tidkort!C39","v":0},null,null,null,{"$f":"Tidkort!F39","v":"00:00:00"}]
[null,{"$f":"Tidkort!A40","v":0},{"$f":"Tidkort!B40","v":0},null,{"$f":"Tidkort!C40","v":0},null,null,null,{"$f":"Tidkort!F40","v":"00:00:00"}]
[null,{"$f":"Tidkort!A41","v":0},{"$f":"Tidkort!B41","v":0},null,{"$f":"Tidkort!C41","v":0},null,null,null,{"$f":"Tidkort!F41","v":"00:00:00"}]
[null,{"$f":"Tidkort!A42","v":0},{"$f":"Tidkort!B42","v":0},null,{"$f":"Tidkort!C42","v":0},null,null,null,{"$f":"Tidkort!F42","v":"00:00:00"}]
[null,{"$f":"Tidkort!A43","v":0},{"$f":"Tidkort!B43","v":0},null,{"$f":"Tidkort!C43","v":0},null,null,null,{"$f":"Tidkort!F43","v":"00:00:00"}]
[null,{"$f":"Tidkort!A44","v":0},{"$f":"Tidkort!B44","v":0},null,{"$f":"Tidkort!C44","v":0},null,null,null,{"$f":"Tidkort!F44","v":"00:00:00"}]
[null,{"$f":"Tidkort!A45","v":0},{"$f":"Tidkort!B45","v":0},null,{"$f":"Tidkort!C45","v":0},null,null,null,{"$f":"Tidkort!F45","v":"00:00:00"}]
[null,{"$f":"Tidkort!A46","v":0},{"$f":"Tidkort!B46","v":0},null,{"$f":"Tidkort!C46","v":0},null,null,null,{"$f":"Tidkort!F46","v":"00:00:00"}]
[null,{"$f":"Tidkort!A47","v":0},{"$f":"Tidkort!B47","v":0},null,{"$f":"Tidkort!C47","v":0},null,null,null,{"$f":"Tidkort!F47","v":"00:00:00"}]
[null,{"$f":"Tidkort!A48","v":0},{"$f":"Tidkort!B48","v":0},null,{"$f":"Tidkort!C48","v":0},null,null,null,{"$f":"Tidkort!F48","v":"00:00:00"}]
[null,{"$f":"Tidkort!A49","v":0},{"$f":"Tidkort!B49","v":0},null,{"$f":"Tidkort!C49","v":"* En timmas rådgivning har"},null,null,null,{"$f":"Tidkort!F49","v":"00:00:00"}]
[null,{"$f":"Tidkort!A50","v":0},{"$f":"Tidkort!B50","v":" "},null,{"$f":"Tidkort!C50","v":"avdragits i förekommande fall."},null,null,null,{"$f":"Tidkort!F50","v":"00:00:00"}]
[null,{"$f":"Tidkort!A51","v":0},{"$f":"Tidkort!B51","v":0},null,{"$f":"Tidkort!C51","v":0},null,null,null,{"$f":"Tidkort!F51","v":"00:00:00"}]
[null,null,{"$f":"Tidkort!B52","v":0},null,{"$f":"Tidkort!C52","v":0},null,null,null,{"$f":"Tidkort!F52","v":"00:00:00"}]
[null,null,null,null,{"$f":"Tidkort!C53","v":"Genomgång av beslutet/domen"},null,null,null,{"$f":"Tidkort!F53","v":"00:00:00"}]
[null,null,null,null,{"$f":"Tidkort!C54","v":"och redovisning därav."},null,null,null,{"$f":"Tidkort!F54","v":"00:00:00"}]
[null,"Summa","Summa"]
[null,{"$f":"SUM(B6:B35)","v":0},{"$f":"SUM(C6:C35)","v":0},null,"   = ",{"$f":"B37+C37/60","v":0},"timmar avseende ovanstående arbete."]
[null,null,null,null,null,null,null,"Timmar"]
[null,null,null,null,"Tiden för arbete t.o.m. dagen före huvudförhandlingen",null,null,null,null,"Arvode före hf, exkl moms"]
[null,null,null,null,"samt kommande avslutande åtgärder m.m. uppgår",null,null,{"$f":"ROUND(SUM(C6:C35)/60+SUM(B6:B35),2)","v":0},null,{"$f":"H40*Tidkort!H3","v":0}]
[null,null,null,null,"enligt ovan till ca:"]
[null,null,null,null,null,null,null,null,null,"Tim"]
[null,null,null,null,"Tiden för arbete under huvudförhandlingsdagen, inklusive",null,null,{"$f":"J43","v":0}]
[null,null,null,null,"eventuella överläggningar med klienten, uppgår till ca:"]
[null,null,null,null,null,null,null,null,null,"Totalt arvode, exkl moms"]
[null,null,null,null,"Den totala tiden uppgår således,",null,null,{"$f":"IF(H43>0,H40+H43,\"\")","v":""},null,{"$f":"IF(J43=0,H40*Tidkort!H3,H40*Tidkort!H3+H43*Tidkort!H3)","v":0}]
[null,null,null,null,"efter eventuell avrundning, till ca:"]

{"sheet":"Resor","index":6,"n_rows":43,"n_cols":15,"rows_kept":43,"cut":false,"hidden":false,"merged":[]}
[]
["UTLÄGG OCH TIDSSPILLAN M.M.",null,null,null,"Klient:",null,null,"Målnummer:",null,null,"Beloppen anges exkl moms.",null,null,null,"Advokatfirman von Schéele"]
[null,null,null,null,"Dnr:",{"$f":"Tidkort!A4","v":0}]
[]
[]
["Specifikation"]
[]
["Datum","Mil","Milersättn.","Tim, resa,","Tim, resa,","Tim, övrig","Tidsspillan,","Tidsspillan,","Tidsspillan,","Tidsspillan.","Parkering","Tolk","Trakta-","Totalt","Anmärkningar"]
[null,null,"kronor","låg taxa","normaltaxa","tidsspillan","resa, låg taxa","resa, normaltaxa","övrig","total",null,null,"mente"]
[null,null,{"$f":"B10*Tidkort!I2","v":0},null,null,null,{"$f":"D10*Tidkort!G2","v":0},{"$f":"E10*Tidkort!G3","v":0},{"$f":"F10*Tidkort!G3","v":0},{"$f":"+G10+H10+I10","v":0},null,null,null,{"$f":"+C10+G10+H10+I10+K10+L10+M10","v":0}]
[null,null,{"$f":"B11*Tidkort!I2","v":0},null,null,null,{"$f":"D11*Tidkort!G2","v":0},{"$f":"E11*Tidkort!G3","v":0},{"$f":"F11*Tidkort!G3","v":0},0,null,null,null,{"$f":"+C11+G11+H11+I11+K11+L11+M11","v":0}]
[null,null,{"$f":"B12*Tidkort!I2","v":0},null,null,null,{"$f":"D12*Tidkort!G2","v":0},{"$f":"E12*Tidkort!G3","v":0},{"$f":"F12*Tidkort!G3","v":0},0,null,null,null,0]
[null,null,{"$f":"B13*Tidkort!I2","v":0},null,null,null,{"$f":"D13*Tidkort!G2","v":0},{"$f":"E13*Tidkort!G3","v":0},{"$f":"F13*Tidkort!G3","v":0},0,null,null,null,0]
[null,null,{"$f":"B14*Tidkort!I2","v":0},null,null,null,{"$f":"D14*Tidkort!G2","v":0},{"$f":"E14*Tidkort!G3","v":0},{"$f":"F14*Tidkort!G3","v":0},0,null,null,null,0]
[null,null,{"$f":"B15*Tidkort!I2","v":0},null,null,null,{"$f":"D15*Tidkort!G2","v":0},{"$f":"E15*Tidkort!G3","v":0},{"$f":"F15*Tidkort!G3","v":0},0,null,null,null,0]
["",null,{"$f":"B16*Tidkort!I2","v":0},null,null,null,{"$f":"D16*Tidkort!G2","v":0},{"$f":"E16*Tidkort!G3","v":0},{"$f":"F16*Tidkort!G3","v":0},0,null,null,null,0]
["",null,{"$f":"B17*Tidkort!I2","v":0},null,null,null,{"$f":"D17*Tidkort!G2","v":0},{"$f":"E17*Tidkort!G3","v":0},{"$f":"F17*Tidkort!G3","v":0},0,null,null,null,0]
["",null,{"$f":"B18*Tidkort!I2","v":0},null,null,null,{"$f":"D18*Tidkort!G2","v":0},{"$f":"E18*Tidkort!G3","v":0},{"$f":"F18*Tidkort!G3","v":0},0,null,null,null,0]
["",null,{"$f":"B19*Tidkort!I2","v":0},null,null,null,{"$f":"D19*Tidkort!G2","v":0},{"$f":"E19*Tidkort!G3","v":0},{"$f":"F19*Tidkort!G3","v":0},0,null,null,null,0]
["",null,{"$f":"B20*Tidkort!I2","v":0},null,null,null,{"$f":"D20*Tidkort!G2","v":0},{"$f":"E20*Tidkort!G3","v":0},{"$f":"F20*Tidkort!G3","v":0},0,null,null,null,0]
["",null,{"$f":"B21*Tidkort!I2","v":0},null,null,null,{"$f":"D21*Tidkort!G2","v":0},{"$f":"E21*Tidkort!G3","v":0},{"$f":"F21*Tidkort!G3","v":0},0,null,null,null,0]
["",null,{"$f":"B22*Tidkort!I2","v":0},null,null,null,{"$f":"D22*Tidkort!G2","v":0},{"$f":"E22*Tidkort!G3","v":0},{"$f":"F22*Tidkort!G3","v":0},0,null,null,null,0]
["",null,{"$f":"B23*Tidkort!I2","v":0},null,null,null,{"$f":"D23*Tidkort!G2","v":0},{"$f":"E23*Tidkort!G3","v":0},{"$f":"F23*Tidkort!G3","v":0},0,null,null,null,0]
["",null,{"$f":"B24*Tidkort!I2","v":0},null,null,null,{"$f":"D24*Tidkort!G2","v":0},{"$f":"E24*Tidkort!G3","v":0},{"$f":"F24*Tidkort!G3","v":0},0,null,null,null,{"$f":"+C24+G24+H24+I24+K24+M24","v":0}]
[null,null,null,null,null,null,null,null,null,0]
["TOTALT",{"$f":"SUM(B10:B25)","v":0},{"$f":"SUM(C10:C24)","v":0},0,0,0,0,0,0,0,0,null,0,{"$f":"+C26+G26+H26+I26+K26+M26","v":0}]
[]
[null,null,null,null,null,null,null,null,null,null,null,null,"Moms 25 %",{"$f":"N26*0.25","v":0}]
["Anmärkningar",null,null,null,null,null,null,null,null,null,null,null,"Inkl moms",{"$f":"+N26+N28","v":0}]
[]
["För tidsspillan vid resor upptages * timmar/resa ToR. Tidsspillan kan ej utgå före kl 07.00. Tidsspillan före klockan 07.00 bortfaller således."]
[]
["Resorna startar vid bostaden/kontoret i Bodafors. Sträckan Bodafors-* är ca * mil enkel resa."]
[]
["Övrig tidsspillan avser *"]
[]
["Vid eventuella resor lördag och söndag faktureras tidsspillan enligt normaltaxan, eftersom arbetet då faktureras enligt helgtaxan."]
[]
["Om middagen har överstigit 1 timma, har den överstigande tiden fakturerats som tidsspillan, liksom kafferasterna (på minst 15 minuter)."]
[]
["Normalt har middagen och kafferasterna (på minst 15 minuter) fråndragits arbetstiden."]
[]
["* (Särskild dispens har erhållits för erhållande av full tidsspillan trots det långa avståndet.)"]

{"sheet":"Bg eget","index":7,"n_rows":11,"n_cols":23,"rows_kept":11,"cut":false,"hidden":false,"merged":[[5,0,5,6],[6,0,6,6],[7,0,7,6]]}
["Dnr",{"$f":"Faktura!G3","v":0}]
[]
["Bokförs på konto 1936"]
[]
[]
[{"$f":"Faktura!F6","v":0},null,null,null,null,null,null,null,null,null,null,null,null,null,"Advokatfirman von Schéele"]
[{"$f":"Faktura!F7","v":0}]
[{"$f":"Faktura!F8","v":0}]
[]
[null,null,null,{"$f":"IF(D11=\"0\",\"\",D11)","v":""},{"$f":"IF(SUM($D11:E11)=0,\"\",E11)","v":""},{"$f":"IF(SUM($D11:F11)=0,\"\",F11)","v":""},{"$f":"IF(SUM($D11:G11)=0,\"\",G11)","v":""},{"$f":"IF(SUM($D11:H11)=0,\"\",H11)","v":""},{"$f":"IF(SUM($D11:I11)=0,\"\",I11)","v":9},{"$f":"IF(SUM($D11:J11)=0,\"\",J11)","v":5},{"$f":"IF(SUM($D11:K11)=0,\"\",K11)","v":7},{"$f":"IF(SUM($D11:L11)=0,\"\",L11)","v":0},{"$f":"IF(SUM($D11:M11)=0,\"\",M11)","v":0},null,null,2,2,2,null,2,3,2,1]
[null,null,null,{"$f":"IF(INT(INT(Faktura!G50)/10/10/10/10/10/10/10)-10*INT(INT(Faktura!G50)/10/10/10/10/10/10/10/10)=0,\"0\",INT(INT(Faktura!G50)/10/10/10/10/10/10/10)-10*INT(INT(Faktura!G50)/10/10/10/10/10/10/10/10))","v":"0"},{"$f":"IF(INT(INT(Faktura!G50)/10/10/10/10/10/10)-10*INT(INT(Faktura!G50)/10/10/10/10/10/10/10)=0,\"0\",INT(INT(Faktura!G50)/10/10/10/10/10/10)-10*INT(INT(Faktura!G50)/10/10/10/10/10/10/10))","v":"0"},{"$f":"IF(INT(INT(Faktura!G50)/10/10/10/10/10)-10*INT(INT(Faktura!G50)/10/10/10/10/10/10)=0,\"0\",INT(INT(Faktura!G50)/10/10/10/10/10)-10*INT(INT(Faktura!G50)/10/10/10/10/10/10))","v":"0"},{"$f":"IF(INT(INT(Faktura!G50)/10/10/10/10)-10*INT(INT(Faktura!G50)/10/10/10/10/10)=0,\"0\",INT(INT(Faktura!G50)/10/10/10/10)-10*INT(INT(Faktura!G50)/10/10/10/10/10))","v":"0"},{"$f":"IF(INT(INT(Faktura!G50)/10/10/10)-10*INT(INT(Faktura!G50)/10/10/10/10)=0,\"0\",INT(INT(Faktura!G50)/10/10/10)-10*INT(INT(Faktura!G50)/10/10/10/10))","v":"0"},{"$f":"IF(INT(INT(Faktura!G50)/10/10)-10*INT(INT(Faktura!G50)/10/10/10)=0,\"0\",INT(INT(Faktura!G50)/10/10)-10*INT(INT(Faktura!G50)/10/10/10))","v":9},{"$f":"IF(INT(INT(Faktura!G50)/10-10*INT(INT(Faktura!G50)/10/10))=0,\"0\",INT(INT(Faktura!G50)/10-10*INT(INT(Faktura!G50)/10/10)))","v":5},{"$f":"IF(INT(INT(Faktura!G50))-10*INT(INT(Faktura!G50)/10)=0,\"0\",INT(INT(Faktura!G50))-10*INT(INT(Faktura!G50)/10))","v":7},{"$f":"INT(IF(((Faktura!G50-INT(Faktura!G50))*100)=0,\"0\",(((Faktura!G50-INT(Faktura!G50))*100)))/10)","v":0},{"$f":"IF(((Faktura!G50-INT(Faktura!G50))*100)=0,\"0\",(((Faktura!G50-INT(Faktura!G50))*100)))-10*L11","v":0},null,null,2,2,2,null,2,3,2,1]

{"sheet":"Bg klienter","index":8,"n_rows":11,"n_cols":23,"rows_kept":11,"cut":false,"hidden":false,"merged":[[7,0,7,6],[5,0,5,6],[6,0,6,6]]}
["Dnr",{"$f":"Faktura!G3","v":0}]
[]
["Bokförs på konto 1836"]
[]
[]
[{"$f":"Faktura!F6","v":0},null,null,null,null,null,null,null,null,null,null,null,null,null,"Advokatfirman von Schéele"]
[{"$f":"Faktura!F7","v":0},null,null,null,null,null,null,null,null,null,null,null,null,null,"Klientmedel"]
[{"$f":"Faktura!F8","v":0}]
[]
[null,null,null,{"$f":"IF(D11=\"0\",\"\",D11)","v":""},{"$f":"IF(SUM($D11:E11)=0,\"\",E11)","v":""},{"$f":"IF(SUM($D11:F11)=0,\"\",F11)","v":""},{"$f":"IF(SUM($D11:G11)=0,\"\",G11)","v":""},{"$f":"IF(SUM($D11:H11)=0,\"\",H11)","v":""},{"$f":"IF(SUM($D11:I11)=0,\"\",I11)","v":9},{"$f":"IF(SUM($D11:J11)=0,\"\",J11)","v":5},{"$f":"IF(SUM($D11:K11)=0,\"\",K11)","v":7},{"$f":"IF(SUM($D11:L11)=0,\"\",L11)","v":0},{"$f":"IF(SUM($D11:M11)=0,\"\",M11)","v":0},null,null,2,2,3,null,9,7,1,3]
[null,null,null,{"$f":"IF(INT(INT(Faktura!G50)/10/10/10/10/10/10/10)-10*INT(INT(Faktura!G50)/10/10/10/10/10/10/10/10)=0,\"0\",INT(INT(Faktura!G50)/10/10/10/10/10/10/10)-10*INT(INT(Faktura!G50)/10/10/10/10/10/10/10/10))","v":"0"},{"$f":"IF(INT(INT(Faktura!G50)/10/10/10/10/10/10)-10*INT(INT(Faktura!G50)/10/10/10/10/10/10/10)=0,\"0\",INT(INT(Faktura!G50)/10/10/10/10/10/10)-10*INT(INT(Faktura!G50)/10/10/10/10/10/10/10))","v":"0"},{"$f":"IF(INT(INT(Faktura!G50)/10/10/10/10/10)-10*INT(INT(Faktura!G50)/10/10/10/10/10/10)=0,\"0\",INT(INT(Faktura!G50)/10/10/10/10/10)-10*INT(INT(Faktura!G50)/10/10/10/10/10/10))","v":"0"},{"$f":"IF(INT(INT(Faktura!G50)/10/10/10/10)-10*INT(INT(Faktura!G50)/10/10/10/10/10)=0,\"0\",INT(INT(Faktura!G50)/10/10/10/10)-10*INT(INT(Faktura!G50)/10/10/10/10/10))","v":"0"},{"$f":"IF(INT(INT(Faktura!G50)/10/10/10)-10*INT(INT(Faktura!G50)/10/10/10/10)=0,\"0\",INT(INT(Faktura!G50)/10/10/10)-10*INT(INT(Faktura!G50)/10/10/10/10))","v":"0"},{"$f":"IF(INT(INT(Faktura!G50)/10/10)-10*INT(INT(Faktura!G50)/10/10/10)=0,\"0\",INT(INT(Faktura!G50)/10/10)-10*INT(INT(Faktura!G50)/10/10/10))","v":9},{"$f":"IF(INT(INT(Faktura!G50)/10-10*INT(INT(Faktura!G50)/10/10))=0,\"0\",INT(INT(Faktura!G50)/10-10*INT(INT(Faktura!G50)/10/10)))","v":5},{"$f":"IF(INT(INT(Faktura!G50))-10*INT(INT(Faktura!G50)/10)=0,\"0\",INT(INT(Faktura!G50))-10*INT(INT(Faktura!G50)/10))","v":7},{"$f":"INT(IF(((Faktura!G50-INT(Faktura!G50))*100)=0,\"0\",(((Faktura!G50-INT(Faktura!G50))*100)))/10)","v":0},{"$f":"IF(((Faktura!G50-INT(Faktura!G50))*100)=0,\"0\",(((Faktura!G50-INT(Faktura!G50))*100)))-10*L11","v":0},null,null,2,2,3,null,9,7,1,3]

{"sheet":"Manual","index":9,"n_rows":26,"n_cols":4,"rows_kept":26,"cut":false,"hidden":false,"merged":[]}
[null,"Manualen är ännu ej klar."]
[]
[null,"Fält",null,"Funktion"]
[]
[null,"Aprikos",null,"Mata in värden i dessa fält."]
[]
[null,"Grå",null,"Övrigt"]
[]
[null,"Limegrön",null,"Dessa fält beräknas automatiskt. Det finns alltså en formel i bakgrunden. Du kan dock"]
[null,null,null,"skriva över denna formel och i stället mata in ett eget värde. Då förstörs formeln."]
[null,null,null,"Spara det nya dokumentet under ett annat namn, så kommer formeln tillbaka nästa"]
[null,null,null,"gång Du använder det ursprungliga kalkylarket. Även vissa ofärgade fält beräknas"]
[null,null,null,"automatiskt, men formeln i dessa ofärgade fält kan ej skrivas över."]
[]
[null,"Ljusgul",null,"Förhandsinprogrammerade värden, som kan ändras vid behov."]
[]
[null,"Ljusblå",null,"Övrigt"]
[]
[null,"Orange",null,"Kalkylbladets namn samt beräkningens resultat."]
[]
[null,"Rosenröd",null,"Licensinnehavare."]
[]
[null,"Alla ovanstående färgmarkeringar förekommer ej i alla våra program."]
[]
[null,"Vid utskrift av en sida är utskriftsområdet A1-L56, och vid utskrift av två sidor är det A1-L111."]
[null,"Välj Arkiv - Utskriftsformat - Blad och gör i Utskriftsområdet ändringen i just det aktuella tidkortet."]

{"sheet":"Program","index":10,"n_rows":66,"n_cols":3,"rows_kept":66,"cut":false,"hidden":false,"merged":[]}
[]
[]
[null,"Advokatfirman von Schéele AB marknadsför följande"]
[null,"tillämpningsprogram i Excel."]
[]
[]
[null,"PROGRAM"]
[]
[null,"1.","Amorteringsplan."]
[null,null,"Amorteringsplan med fast belopp, innefattande amortering och ränta samt avgifter."]
[null,null,"Amorteringsplanen är avsedd för en betalningstid på högst 13 månader"]
[null,null,"Pris: 790 kronor inkl moms (632 kronor exkl moms)."]
[]
[null,"2.","Arbetsgivaravgifter."]
[null,null,"Beräkning av arbetsgivaravgifter och upprättande av uppbördsdeklaration."]
[null,null,"Pris: 1.990 kronor inkl moms (1.592 kronor exkl moms)."]
[]
[null,"3.","Bodelning."]
[null,null,"Beräkning av bodelningslikvid, fördelat med tillgångar och skulder i olika kolumner."]
[null,null,"Pris: 1.990 kronor inkl moms (1.592 kronor exkl moms)."]
[]
[null,"4.","Konkursutdelning."]
[null,null,"Fördelning av utdelning till oprioriterade fordringsägare."]
[null,null,"Pris: 1.290 kronor inkl moms (1.032 kronor exkl moms)."]
[]
[null,"5.","Löner."]
[null,null,"Enkel sammanställning av löner för högst 4 anställda."]
[null,null,"Vid fler anställda får kopia av programmet användas."]
[null,null,"Pris: 790 kronor inkl moms (632 kronor exkl moms)."]
[]
[null,"6.","Skattedeklaration."]
[null,null,"Blankett för skattedeklaration. Blanketten ersätter ej originalblanketten utan är endast ett"]
[null,null,"hjälpmedel för att räkna ut beloppen, som sedan kan överföras manuellt till originalblanketten."]
[null,null,"Pris: 790 kronor inkl moms (632 kronor exkl moms)."]
[]
[null,"7.","Tidkort."]
[null,null,"Enkelt tidkort för reseutlägg, tidsspillan och arvode."]
[null,null,"Pris: 500 kronor inkl moms (400 kronor exkl moms)."]
[]
[null,"8.","Underhållsbidrag."]
[null,null,"Beräkning av underhållsbidrag enligt Socialstyrelsens tidigare anvisningar för bidragsförskott."]
[null,null,"Programmet kan med fördel användas för beräkning av underhåll enligt föräldrabalken."]
[null,null,"Pris: 1.990 kronor inkl moms (1.592 kronor exkl moms)."]
[]
[null,"9.","Underhållsstöd."]
[null,null,"Beräkning av underhållsstöd enligt regler gällande från och med 2000-02-01."]
[null,null,"Pris: 1.290 kronor inkl moms (1.032 kronor exkl moms)."]
[]
[null,"Det förutsätts att användaren har kalkylprogrammet Excel installerat i sin dator."]
[null,"Programmen är ej tidsbegränsade utan kan användas år efter år."]
[" ","Säljaren eller programkonstruktören ansvarar ej för eventuella felberäkningar eller dyl."]
[]
[null,"Beställning kan ske genom insättning av ovanstående belopp inkl moms på advokatbyråns"]
[null,"plusgirokonto 35 13 75-1 eller bankgirokonto 222-2321, med angivande av programmets namn."]
[null,"Beställning kan också ske mot faktura via e-post, brev, telefon eller telefax."]
[]
[null,"Helst sker leverans via e-post. Ange i så fall aktuell e-postadress. Annars sker leverans per"]
[null,"diskett."]
[]
[null,"Tidsbegränsade versioner av respektive program kan provköras \"on line\" på hemsidan"]
[null,"http://www.von.scheele.se genom att man klickar på den understrukna programrubriken."]
[null,"Sökvägen från hemsidan är först \"Länkar\" och därefter \"Dataprogram\"."]
[null,"Detta förutsätter att man dels använder Explorer och dels har kalkylprogrammet Excel"]
[null,"installerat i sin dator."]
[]
[null,"Se nedanstående flik \"Copyright\"."]

{"sheet":"Copyright","index":11,"n_rows":14,"n_cols":3,"rows_kept":14,"cut":false,"hidden":false,"merged":[]}
[]
[]
[null,"COPYRIGHT"]
[]
[null,"(C) Inge von Schéele"]
[null,"Snickaregatan 21"]
[null,"571 61  BODAFORS"]
[]
[null,"Mobiltelefon:","070-537 07 89"]
[null,"Telefon:","0380-122 15"]
[]
[null,"E-post:","advokatfirman.von.scheele@gmail.com"]
[]
[null,"Hemsida:","http://www.von.scheele.se"]